BEGIN:VCALENDAR
VERSION:2.0
PRODID:-//wp-events-plugin.com//7.2.3.1//EN
BEGIN:VEVENT
UID:3@activatesenderismo.es
DTSTART:20260726T080000Z
DTEND:20260731T203000Z
DTSTAMP:20260425T104127Z
URL:https://activatesenderismo.es/events/senderismo-en-la-marina-lucense/
SUMMARY:Senderismo y playa en la mariña lucense. 26-31 Julio
DESCRIPTION:[vc_row css_animation="" row_type="row" use_row_as_full_screen_
 section="no" type="full_width" angled_section="no" text_align="left" backg
 round_image_as_pattern="without_pattern"][vc_column][vc_separator type="no
 rmal" color="#000000" up="20" down="20"][/vc_column][/vc_row][vc_row css_a
 nimation="" row_type="row" use_row_as_full_screen_section="no" type="full_
 width" angled_section="no" text_align="left" background_image_as_pattern="
 without_pattern" z_index="" background_color="#ededed"][vc_column][vc_tabs
  style="horizontal"][vc_tab title="Precio" tab_id="de2c7a30-5835-4"][vc_co
 lumn_text css=""]Precio: (625€ – 615€ socios)\nSuplemento habitació
 n individual: 175€\n\nAprovecha y hazte socio!! Cuota de socio anual: 20
 € válida 12 meses desde el mes de inscripción.[/vc_column_text][/vc_ta
 b][vc_tab title="Horario" tab_id="8433a977-5a0e-9"][vc_column_text css=""]
 Hora de Salida día 26: 08.00h.\nHora de llegada día 31: 21.00h. aprox.[/
 vc_column_text][/vc_tab][vc_tab title="Incluye" tab_id="1592411685044-2-2"
 ][vc_column_text css=""]Incluye: Transporte en AUTOCAR PRIVADO\, rutas\, A
 lojamiento con 3 M.P. y 2 A.D. en hab. Dobles (3 cenas o comidas y 5 desay
 unos) en Hotel Gran Hotel de Lugo**** (Centro de Lugo)\, monitores\, Segur
 o RC.\n\nNo incluye: lo no especificado en incluye.[/vc_column_text][/vc_t
 ab][vc_tab title="Requisitos" tab_id="1592411747704-3-8"][vc_column_text]R
 EQUISITOS\nTener entre 18 y 55 años aprox. Botas de trekking\, 1/1\,5 lit
 ros de agua\, chubasquero y muchas ganas de divertirte.\n\nEl grupo se con
 firmará con un minimo de 25 pax.[/vc_column_text][/vc_tab][/vc_tabs][vc_e
 mpty_space height="22px"][/vc_column][/vc_row][vc_row css_animation="" row
 _type="row" use_row_as_full_screen_section="no" type="full_width" angled_s
 ection="no" text_align="left" background_image_as_pattern="without_pattern
 "][vc_column][vc_separator type="normal" color="#000000" up="20" down="20"
 ][/vc_column][/vc_row][vc_row css_animation="" row_type="row" use_row_as_f
 ull_screen_section="no" type="full_width" angled_section="no" text_align="
 left" background_image_as_pattern="without_pattern"][vc_column][vc_column_
 text]\nPrograma\n[/vc_column_text][/vc_column][/vc_row][vc_row css_animati
 on="" row_type="row" use_row_as_full_screen_section="no" type="full_width"
  angled_section="no" text_align="left" background_image_as_pattern="withou
 t_pattern"][vc_column][vc_separator type="normal" color="#000000" up="20" 
 down="20"][/vc_column][/vc_row][vc_row css_animation="" row_type="row" use
 _row_as_full_screen_section="no" type="full_width" angled_section="no" tex
 t_align="left" background_image_as_pattern="without_pattern"][vc_column wi
 dth="2/3"][vc_column_text css=""]Día 26 Julio: Salida de Madrid\, Llegada
  a Astorga para comer (por libre)\, pequeña visita y continuación a Lu
 go.\n\nCena en el Hotel (incl. en la MP)[/vc_column_text][/vc_column][vc_c
 olumn width="1/3"][vc_single_image image="3303" img_size="full" qode_css_a
 nimation=""][/vc_column][/vc_row][vc_row css_animation="" row_type="row" u
 se_row_as_full_screen_section="no" type="full_width" angled_section="no" t
 ext_align="left" background_image_as_pattern="without_pattern"][vc_column]
 [vc_separator type="normal" color="#000000" up="20" down="20"][/vc_column]
 [/vc_row][vc_row css_animation="" row_type="row" use_row_as_full_screen_se
 ction="no" type="full_width" angled_section="no" text_align="left" backgro
 und_image_as_pattern="without_pattern"][vc_column width="2/3"][vc_column_t
 ext css=""]Día 27 Julio: O Barqueiro – Playa de Xilloi\n\nHoy nos despl
 azaremos hasta el P.N de la ría do Barqueiro. Desde allí y cruzando el 
 Puente de hierro del Rio Sor\, que desemboca en dicha ria\, haremos la bon
 ita ruta de senderismo hasta una de la mejores playas de esta zona\, la pl
 aya de Xilloy\, donde nos bañaremos y comeremos por libre.\n\nRECORRIDO: 
 10 Km. Aprox.\nDIFICULTAD: Media – Baja –(condición física normal)\
 nDESNIVEL: 50 -50 m\n\nCena por libre en Lugo[/vc_column_text][/vc_column
 ][vc_column width="1/3"][vc_single_image image="3310" img_size="full" qode
 _css_animation=""][vc_empty_space height="22px"][vc_single_image image="34
 31" img_size="full" qode_css_animation=""][/vc_column][/vc_row][vc_row css
 _animation="" row_type="row" use_row_as_full_screen_section="no" type="ful
 l_width" angled_section="no" text_align="left" background_image_as_pattern
 ="without_pattern"][vc_column][vc_separator type="normal" color="#000000" 
 up="20" down="20"][/vc_column][/vc_row][vc_row css_animation="" row_type="
 row" use_row_as_full_screen_section="no" type="full_width" angled_section=
 "no" text_align="left" background_image_as_pattern="without_pattern"][vc_c
 olumn width="2/3"][vc_column_text css=""]Día 28 Julio: Playa de las cated
 rales – Senderismo vía verde de Pontenova/ Eo\n\nSaldremos temprano\, 
 nos espera una de las joyas geológicas de Galicia: la playa de las cated
 rales\, conocida también como la playa de agua santas. Sus arcos formado
 s a base del continuo golpear del mar contra las rocas\, hacen que parezca
 n arcos de catedrales góticas.\n\nSi hace buen tiempo podremos continuar
  con nuestro baño en una playa al lado y después de nuestro baño\, c
 omeremos en un restaurante (incl. MP)\n\nPor la tarde realizaremos un pase
 o por la llamada vía verde del Eo\n\nLa Vía verde del Eo (también ll
 amada «Ruta del ferrocarril» o «Vía natural do Eo») aprovecha el ant
 iguo trazado de un tren minero para mostrarnos los encantos de esta comarc
 a.\n\nRECORRIDO: 8 Km. Aprox.\nDIFICULTAD: Media – Baja –(condición
  física normal)\nDESNIVEL: 50 -50 m\n\nPor la noche cena por libre en Lu
 go[/vc_column_text][/vc_column][vc_column width="1/3"][vc_single_image ima
 ge="4309" img_size="full" css="" qode_css_animation=""][/vc_column][/vc_ro
 w][vc_row css_animation="" row_type="row" use_row_as_full_screen_section="
 no" type="full_width" angled_section="no" text_align="left" background_ima
 ge_as_pattern="without_pattern"][vc_column][vc_separator type="normal" col
 or="#000000" up="20" down="20"][/vc_column][/vc_row][vc_row css_animation=
 "" row_type="row" use_row_as_full_screen_section="no" type="full_width" an
 gled_section="no" text_align="left" background_image_as_pattern="without_p
 attern"][vc_column width="2/3"][vc_column_text css=""]\nDía 29 Julio. Ho
 tel – Senderismo Punta Fuciño do Porco.\nEn el municipio de O Vicedo en
  Lugo encontramos la punta del Fuciño do Porco\, que significa «hocico d
 e cerdo». Se trata de una formación rocosa denominada geográficamente P
 unta Socastro.\n\nSe trata de una ruta hacia el extremo de dicha formació
 n rocosa a través de una impresionante pasarela de madera en forma de zig
 zag. En su recorrido se puede apreciar la inmensidad del Mar Cantábrico y
  de unas vistas a ambos lados del sendero de inigualable belleza.\n\nAl ll
 egar al final del recorrido tendremos un mirador sobre la Punta Socastro d
 onde poder observar la Ria de Viveiro y otros lugares de O Vicedo mediante
  una pasarela de madera.\nRECORRIDO: 8 Km. Aprox.\nDIFICULTAD: Media –
  Baja –(condición física normal)\nDESNIVEL: 100 -100 m\nComeremos por 
 libre en Vicedo y por la tarde Playa\nCena en el Hotel incl. MP\n[/vc_colu
 mn_text][/vc_column][vc_column width="1/3"][vc_single_image image="4300" i
 mg_size="full" qode_css_animation=""][vc_empty_space height="22px"][/vc_co
 lumn][/vc_row][vc_row css_animation="" row_type="row" use_row_as_full_scre
 en_section="no" type="full_width" angled_section="no" text_align="left" ba
 ckground_image_as_pattern="without_pattern"][vc_column][vc_separator type=
 "normal" color="#000000" up="20" down="20"][/vc_column][/vc_row][vc_row cs
 s_animation="" row_type="row" use_row_as_full_screen_section="no" type="fu
 ll_width" angled_section="no" text_align="left" background_image_as_patter
 n="without_pattern"][vc_column width="2/3"][vc_column_text css=""]Día 30
  Julio/ Senderismo Ruta del agua y del hierro  en Taramundi\n\n\nHoy visi
 taremos el pueblo más antiguo de turismo rural de España: Taramundi. All
 í haremos una ruta por los caminos que recorrían los antiguos herreros\,
  y veremos aquellas rudimentarias pero efectivas industrias para trabajar 
 este metal.\n\nRECORRIDO: 8 Km. Aprox.\nDIFICULTAD: Media – Baja –(co
 ndición física normal)\nDESNIVEL: 50 -50 m\n\nDespués de comer nos ir
 emos a visitar Lugo por libre.\n\nCena por libre en Lugo[/vc_column_text][
 /vc_column][vc_column width="1/3"][vc_single_image image="3315" img_size="
 full" qode_css_animation=""][/vc_column][/vc_row][vc_row css_animation="" 
 row_type="row" use_row_as_full_screen_section="no" type="full_width" angle
 d_section="no" text_align="left" background_image_as_pattern="without_patt
 ern"][vc_column][vc_separator type="normal" color="#000000" up="20" down="
 20"][/vc_column][/vc_row][vc_row css_animation="" row_type="row" use_row_a
 s_full_screen_section="no" type="full_width" angled_section="no" text_alig
 n="left" background_image_as_pattern="without_pattern"][vc_column width="2
 /3"][vc_column_text css=""]Día 31 Julio/ O cebreiro - La Bañeza -  Mad
 rid[/vc_column_text][/vc_column][vc_column width="1/3"][vc_single_image im
 age="3311" img_size="full" qode_css_animation=""][/vc_column][/vc_row][vc_
 row css_animation="" row_type="row" use_row_as_full_screen_section="no" ty
 pe="full_width" angled_section="no" text_align="left" background_image_as_
 pattern="without_pattern"][vc_column][vc_separator type="normal" color="#0
 00000" up="20" down="20"][/vc_column][/vc_row][vc_row css_animation="" row
 _type="row" use_row_as_full_screen_section="no" type="full_width" angled_s
 ection="no" text_align="left" background_image_as_pattern="without_pattern
 "][vc_column][vc_column_text css=""]Ven a un viaje alucinante alojándonos
  en un hotel**** en Lugo\, playas como la playa de las catedrales\, o la d
 e Xilloi\, senderismo en Punta Fuciño o Taramundi\, visitando Lugo\, todo
  ello en el mejor ambiente y al mejor precio. (Hotel 4 **** en Lugo y aut
 ocar privado para las excursiones). No te lo pierdas!!\n\nPrecio: 625€ (
 Socios: 615€)\nSuplemento habitación individual: 175€ (habitaciones l
 imitadas)\nReserva con 50€ y el resto del pago 20 días antes de la sali
 da\n\nAprovecha y hazte socio!! Cuota de socio anual: 20€ válida 12 mes
 es desde el mes de inscripción. (No hace falta ser socio para venir a las
  excursiones\, solamemente es un descuento si vas a asistir mucho)\n\nIncl
 uye: AUTOCAR PRIVADO\, rutas\, Alojamiento con 3 M.P. y 2 AD en hab. Doble
 s (3 cenas/comidas y 5 desayunos) en HOTEL Gran Ciudad de Lugo ****\, moni
 tores\, Seguro RC. ).\n\nNo Incluye: lo no incluido en incluye\n\nHora de
  Salida día 26: 08.00h.\nHora de llegada día 31: 20.30h. aprox.\n\nSal
 ida: CHURRERIA PATUCHURRO C/Ariel\, 4 (frente estación Sur de Autobuses d
 e Mendez Alvaro)[/vc_column_text][/vc_column][/vc_row][vc_row css_animatio
 n="" row_type="row" use_row_as_full_screen_section="no" type="full_width" 
 angled_section="no" text_align="left" background_image_as_pattern="without
 _pattern"][vc_column][vc_separator type="normal" color="#000000" up="20" d
 own="20"][vc_column_text]Si en las 24h siguientes a la inscripción no te 
 ha llegado el correo de confirmación\, mira en la bandeja de spam (correo
  no deseado) o ponte en contacto en el telf.: 600 24 20 72\n\nTambién pue
 des reservar enviando un mail con tus datos y número de reservas a info@
 activatesenderismo.es\n\nSi necesitas un seguro de cancelación o de viaje
 s\, solicitanóslo\n\nAl asistir a la excursión se aceptan las condicion
 es generales[/vc_column_text][vc_separator type="normal" color="#000000" u
 p="20" down="20"][/vc_column][/vc_row][vc_row css_animation="" row_type="r
 ow" use_row_as_full_screen_section="no" type="full_width" angled_section="
 no" text_align="left" background_image_as_pattern="without_pattern"][vc_co
 lumn width="1/4"][/vc_column][vc_column width="3/4"][vc_column_text css=""
 ]\nPlazas disponibles\n[/vc_column_text][/vc_column][/vc_row][vc_row css_a
 nimation="" row_type="row" use_row_as_full_screen_section="no" type="full_
 width" angled_section="no" text_align="left" background_image_as_pattern="
 without_pattern"][vc_column][vc_empty_space height="22px"][/vc_column][/vc
 _row]
LOCATION:Churreria Patuchurro - Calle Ariel\, 4 (frente estación Sur de Me
 ndez Alvaro)\, C/Ariel\, 4\, Madrid\, Madrid\, España
X-APPLE-STRUCTURED-LOCATION;VALUE=URI;X-ADDRESS=C/Ariel\, 4\, Madrid\, Madr
 id\, España;X-APPLE-RADIUS=100;X-TITLE=Churreria Patuchurro - Calle Ariel
 \, 4 (frente estación Sur de Mendez Alvaro):geo:0,0
END:VEVENT
END:VCALENDAR