BEGIN:VCALENDAR
VERSION:2.0
PRODID:-//wp-events-plugin.com//7.2.3.1//EN
BEGIN:VEVENT
UID:91@activatesenderismo.es
DTSTART:20250501T080000Z
DTEND:20250504T203000Z
DTSTAMP:20250428T103039Z
URL:https://activatesenderismo.es/events/ribeira-sacra-rios-bosques-oracio
 nes-y-vinedos-2/
SUMMARY:RIBEIRA SACRA **RIOS\, BOSQUES\, ORACIONES Y VIÑEDOS** PUENTE DE M
 AYO
DESCRIPTION:[vc_row css_animation="" row_type="row" use_row_as_full_screen_
 section="no" type="full_width" angled_section="no" text_align="left" backg
 round_image_as_pattern="without_pattern"][vc_column][vc_separator type="no
 rmal" color="#000000" up="20" down="20"][/vc_column][/vc_row][vc_row css_a
 nimation="" row_type="row" use_row_as_full_screen_section="no" type="full_
 width" angled_section="no" text_align="left" background_image_as_pattern="
 without_pattern" z_index="" background_color="#ededed"][vc_column][vc_tabs
  style="horizontal"][vc_tab title="Precio" tab_id="de2c7a30-5835-4"][vc_co
 lumn_text css=""]Precio: (395€ – 385€ socios)  (Señal de 50€ y e
 l resto del pago antes del 10 de Abril)\n\nSuplemento habitación individu
 al: 130 €\n\nAprovecha y hazte socio!! Cuota de socio anual: 20€ váli
 da 12 meses desde el mes de inscripción. (No hace falta ser socio para ve
 nir a las excursiones\, solamemente es un descuento si vas a asistir mucho
 )[/vc_column_text][/vc_tab][vc_tab title="Horario" tab_id="8433a977-5a0e-9
 "][vc_column_text css=""]Hora de Salida día 1 mayo: 08.00h.\nHora de lleg
 ada día 4 mayo: 21.00h. aprox.[/vc_column_text][/vc_tab][vc_tab title="In
 cluye" tab_id="1592411685044-2-2"][vc_column_text]Incluye: Autocar\, rutas
 \, Alojamiento con M.P. en hab. doble (1 comida\, 2 cenas y 3 desayunos) e
 n HOTEL Conde de Lemos en Monforte\, Guía de Montaña y monitores\, Segur
 o RC. Entrada al catamarán del Rio Miño.\n\nNo incluye: lo no especifica
 do en incluye.[/vc_column_text][/vc_tab][vc_tab title="Requisitos" tab_id=
 "1592411747704-3-8"][vc_column_text]REQUISITOS\nTener entre 30 y 55 años 
 aprox. Botas de trekking\, 1/1\,5 litros de agua\, chubasquero y muchas ga
 nas de divertirte.\n\nEl grupo se confirmará con un minimo de 25 pax.[/vc
 _column_text][/vc_tab][/vc_tabs][vc_empty_space height="22px"][/vc_column]
 [/vc_row][vc_row css_animation="" row_type="row" use_row_as_full_screen_se
 ction="no" type="full_width" angled_section="no" text_align="left" backgro
 und_image_as_pattern="without_pattern"][vc_column][vc_separator type="norm
 al" color="#000000" up="20" down="20"][/vc_column][/vc_row][vc_row css_ani
 mation="" row_type="row" use_row_as_full_screen_section="no" type="full_wi
 dth" angled_section="no" text_align="left" background_image_as_pattern="wi
 thout_pattern"][vc_column][vc_column_text]\nPrograma\n[/vc_column_text][/v
 c_column][/vc_row][vc_row css_animation="" row_type="row" use_row_as_full_
 screen_section="no" type="full_width" angled_section="no" text_align="left
 " background_image_as_pattern="without_pattern"][vc_column][vc_separator t
 ype="normal" color="#000000" up="20" down="20"][/vc_column][/vc_row][vc_ro
 w css_animation="" row_type="row" use_row_as_full_screen_section="no" type
 ="full_width" angled_section="no" text_align="left" background_image_as_pa
 ttern="without_pattern"][vc_column width="1/2"][vc_column_text css=""]DIA 
 1 MAYO: MADRID – CATAMÁRÁN.\n\n08.00 Salida hacia Belesar\n\nTras come
 r en ruta (por libre)\, por la tarde realizaremos una ruta fluvial por el
   rio Miño\, un encantador paseo de unas dos horas en barco (incl).\n\nL
 Legada al Hotel en Monforte de lemos\, cena en el Hotel[/vc_column_text][/
 vc_column][vc_column width="1/2"][vc_single_image image="4672" img_size="f
 ull" qode_css_animation=""][vc_empty_space][vc_single_image image="5524" i
 mg_size="full" qode_css_animation=""][/vc_column][/vc_row][vc_row css_anim
 ation="" row_type="row" use_row_as_full_screen_section="no" type="full_wid
 th" angled_section="no" text_align="left" background_image_as_pattern="wit
 hout_pattern"][vc_column][vc_separator type="normal" color="#000000" up="2
 0" down="20"][/vc_column][/vc_row][vc_row css_animation="" row_type="row" 
 use_row_as_full_screen_section="no" type="full_width" angled_section="no" 
 text_align="left" background_image_as_pattern="without_pattern"][vc_column
  width="1/2"][vc_column_text css=""]DÍA 2 MAYO: EL CAMINO REAL ESGOS Y SA
 N PEDRO DE ROCAS\n\nSalida dirección Esgos\, pequeña población\, patria
  del famoso “lobishome” de Galicia para realizar un recorrido circular
 \, que transcurre por el antiguo camino real que permitía la comunicació
 n a la ciudad de Ourense.\n\nEste conserva sus muros laterales\, en alguno
 s tramos\, sigue habiendo marcas de carros sobre el empedrado.\n\nEl camin
 o está acompañado por Bosques de robles\, coníferas\, fincas con muros 
 de piedra y típicas formaciones rocosas de la zona nos irán acompañando
  durante toda la ruta. Una ruta circular que nos llevará al famoso Monast
 erio de San Pedro de Rocas\, del año 573 se cree que es el cenobio más a
 ntiguo de Galicia\, en un curioso emplazamiento\, protegido entre las roca
 s graníticas.\n\nDespués de la ruta\, nos dirigiremos a Luintra\, donde 
 comeremos\, y por la tarde visitaremos el monasterio de Santo Estevo de ri
 bas de Sil ( bajada y subida a pie (800m) y volveremos al hotel\n\nDesnive
 l en positivo: 150m\nDesnivel en negativo: 150m\nDistancia: 9 km\nDificul
 tad: Media-Baja (condición física normal)[/vc_column_text][/vc_column][
 vc_column width="1/2"][vc_single_image image="4678" img_size="full" qode_c
 ss_animation=""][vc_empty_space height="22px"][vc_single_image image="4679
 " img_size="full" qode_css_animation=""][/vc_column][/vc_row][vc_row css_a
 nimation="" row_type="row" use_row_as_full_screen_section="no" type="full_
 width" angled_section="no" text_align="left" background_image_as_pattern="
 without_pattern"][vc_column][vc_separator type="normal" color="#000000" up
 ="20" down="20"][/vc_column][/vc_row][vc_row css_animation="" row_type="ro
 w" use_row_as_full_screen_section="no" type="full_width" angled_section="n
 o" text_align="left" background_image_as_pattern="without_pattern"][vc_col
 umn width="1/2"][vc_column_text css=""]DÍA 3 MAYO: PASARELAS DEL RIO MAO\
 , VISITA A UNA BODEGA\, MIRADORES DEL SIL\n\nLas pasarelas del río Mao  
 nos permitirán  adentrarnos en el relieve abrupto del cañón que ha exc
 avado el río Mao antes de desembocar en el Sil. Un recorrido entre la esp
 esa vegetación que ocupa el cañón. El río debe salvar un relieve escar
 pado\, de abrupta orografía. Veremos recuerdos del pasado que han quedad
 o anegados tras la construcción del embalse de Santo Estevo en el Sil\, r
 uinas de antiguas construcciones así como terrazas de cultivo que llegaba
 n hasta el antiguo borde del río\, y que ahora permanecen habitualmente b
 ajo las aguas.\n\nDesnivel en positivo: 150m\nDesnivel en negativo: 150m\n
 Distancia: 10 km\nDificultad: Media-Baja (condición física normal)\n\n
 Continuamos el paseo hasta la aldea de Barxacova y retornaremos al punto d
 e partida.\n\nDespues de comer en Castro Caldelas (Incl.)\, iremos a visit
 ar una bodega (incl.) y después disfrutaremos de unos espectaculares mira
 dores de la región\n\nRegreso al hotel.\n\nCena por libre[/vc_column_text
 ][/vc_column][vc_column width="1/2"][vc_single_image image="5534" img_size
 ="full" qode_css_animation=""][vc_empty_space height="22px"][vc_single_ima
 ge image="5535" img_size="full" qode_css_animation=""][/vc_column][/vc_row
 ][vc_row css_animation="" row_type="row" use_row_as_full_screen_section="n
 o" type="full_width" angled_section="no" text_align="left" background_imag
 e_as_pattern="without_pattern"][vc_column][vc_separator type="normal" colo
 r="#000000" up="20" down="20"][/vc_column][/vc_row][vc_row css_animation="
 " row_type="row" use_row_as_full_screen_section="no" type="full_width" ang
 led_section="no" text_align="left" background_image_as_pattern="without_pa
 ttern"][vc_column width="1/2"][vc_column_text css=""]DIA 4 MAYO: ALLARIZ 
  Y REGRESO A MADRID  \n\nHoy ya de regreso visitaremos uno de los cascos 
 históricos mejor conservado de Galicia\, pararemos a comer en Puebla de S
 anabria y ya por la A-6  continuaremos nuestro viaje a Madrid.[/vc_column
 _text][/vc_column][vc_column width="1/2"][vc_single_image image="5536" img
 _size="full" qode_css_animation=""][vc_empty_space height="22px"][vc_singl
 e_image image="2748" img_size="full" qode_css_animation=""][/vc_column][/v
 c_row][vc_row css_animation="" row_type="row" use_row_as_full_screen_secti
 on="no" type="full_width" angled_section="no" text_align="left" background
 _image_as_pattern="without_pattern"][vc_column][vc_separator type="normal"
  color="#000000" up="20" down="20"][/vc_column][/vc_row][vc_row css_animat
 ion="" row_type="row" use_row_as_full_screen_section="no" type="full_width
 " angled_section="no" text_align="left" background_image_as_pattern="witho
 ut_pattern"][vc_column][vc_column_text css=""]Senderismo\, monasterios\, b
 osques\, casco antiguo\, Monforte de Lemos\, cañones\, bodegas\, viñedos
 …como verás un programa muy completo para disfrutar de una comarca de l
 o más bonita y desconocida de Galicia. Acompáñanos!\n\nPrecio hab. comp
 artida: 395 € (socios 385€) (HAB INDIVIDUALES Suplemento 130€)\n\nHo
 ra de Salida día 1 mayo: 08.00h.\nHora de llegada día 4 mayo: 20.30h.a
 prox.\n\nIncluye: Autocar\, rutas\, Alojamiento con M.P. en hab. doble (1 
 comida\, 2 cenas y 3 desayunos) en Hotel Condes de Lemos en Monforte de Le
 mos\, Guía de Montaña y monitores\, Seguro RC. Visita a la Bodega\, entr
 ada al catamarán del Rio Miño.\n\nNo incluye: Lo no incluido en incluye.
 \n\nSalida: CHURRERIA PATUCHURRO C/Ariel\, 4 (frente estación Sur de Auto
 buses de Mendez Alvaro)\n\nREQUISITOS\nTener entre 30 y 55 años aprox. 
  Botas ó zapatillas de trekking\, 1/1\,5 litros de agua\, chubasquero y 
 muchas ganas de divertirte.\n\nNota: El programa está sujeto a cambios po
 r tipos meteorológicos o logísticos\, o por consideración del guía[/vc
 _column_text][/vc_column][/vc_row][vc_row css_animation="" row_type="row" 
 use_row_as_full_screen_section="no" type="full_width" angled_section="no" 
 text_align="left" background_image_as_pattern="without_pattern"][vc_column
 ][vc_separator type="normal" color="#000000" up="20" down="20"][vc_column_
 text]Si en las 24h siguientes a la inscripción no te ha llegado el correo
  de confirmación\, mira en la bandeja de spam (correo no deseado) o ponte
  en contacto en el telf.: 600 24 20 72\n\nTambién puedes reservar envian
 do un mail con tus datos y número de reservas a info@activatesenderismo.e
 s\n\nSi necesitas un seguro de cancelación o de viajes\, solicítanoslo\n
 \nAl asistir a la excursión se aceptan las condiciones generales[/vc_col
 umn_text][vc_separator type="normal" color="#000000" up="20" down="20"][/v
 c_column][/vc_row][vc_row css_animation="" row_type="row" use_row_as_full_
 screen_section="no" type="full_width" angled_section="no" text_align="left
 " background_image_as_pattern="without_pattern"][vc_column width="1/4"][/v
 c_column][vc_column width="3/4"][vc_column_text css=""]\nCompleto\n[/vc_co
 lumn_text][/vc_column][/vc_row][vc_row css_animation="" row_type="row" use
 _row_as_full_screen_section="no" type="full_width" angled_section="no" tex
 t_align="left" background_image_as_pattern="without_pattern"][vc_column][v
 c_empty_space height="22px"][/vc_column][/vc_row]
LOCATION:Churreria Patuchurro - Calle Ariel\, 4 (frente estación Sur de Me
 ndez Alvaro)\, C/Ariel\, 4\, Madrid\, Madrid\, España
X-APPLE-STRUCTURED-LOCATION;VALUE=URI;X-ADDRESS=C/Ariel\, 4\, Madrid\, Madr
 id\, España;X-APPLE-RADIUS=100;X-TITLE=Churreria Patuchurro - Calle Ariel
 \, 4 (frente estación Sur de Mendez Alvaro):geo:0,0
END:VEVENT
END:VCALENDAR