BEGIN:VCALENDAR
VERSION:2.0
PRODID:-//wp-events-plugin.com//7.2.3.1//EN
BEGIN:VEVENT
UID:86@activatesenderismo.es
DTSTART:20251108T081500Z
DTEND:20251110T203000Z
DTSTAMP:20251025T103933Z
URL:https://activatesenderismo.es/events/parque-natural-saja-besaya/
SUMMARY:Parque Natural Saja-Besaya **8-10 Nov.**
DESCRIPTION:[vc_row css_animation="" row_type="row" use_row_as_full_screen_
 section="no" type="full_width" angled_section="no" text_align="left" backg
 round_image_as_pattern="without_pattern"][vc_column][vc_separator type="no
 rmal" color="#000000" up="20" down="20"][/vc_column][/vc_row][vc_row css_a
 nimation="" row_type="row" use_row_as_full_screen_section="no" type="full_
 width" angled_section="no" text_align="left" background_image_as_pattern="
 without_pattern" z_index="" background_color="#ededed"][vc_column][vc_tabs
  style="horizontal"][vc_tab title="Precio" tab_id="de2c7a30-5835-4"][vc_co
 lumn_text css=""]Precio: 295€ – 285€ socios. (reserva con 50€ y re
 sto antes del 20 oct.)\nSuplemento habitación individual:  (YA NO DISPON
 IBLES)\n\nAprovecha y hazte socio!! Cuota de socio anual: 20€ válida 12
  meses desde el mes de inscripción.[/vc_column_text][/vc_tab][vc_tab titl
 e="Horario" tab_id="8433a977-5a0e-9"][vc_column_text css=""]Hora de Salida
  día 8 Nov.: 08.15h.\nHora de llegada día 10 Nov.: 20.30h. aprox.[/vc_co
 lumn_text][/vc_tab][vc_tab title="Incluye" tab_id="1592411685044-2-2"][vc_
 column_text css=""]Incluye: Autocar privado\, rutas\, Alojamiento con M.P.
  en hab. doble (2 cenas\, y 2 desayunos) en HOTEL 3***\, Guía de Montaña
  y monitores\, Seguro RC.\n\nNo incluye: lo no especificado en incluye.[/v
 c_column_text][/vc_tab][vc_tab title="Requisitos" tab_id="1592411747704-3-
 8"][vc_column_text]REQUISITOS\nTener entre 30 y 55 años aprox. Botas/zapa
 tillas de trekking\, 1/1\,5 litros de agua\, chubasquero y muchas ganas de
  divertirte.\n\nEl grupo se confirmará con un minimo de 20 pax.[/vc_colum
 n_text][/vc_tab][/vc_tabs][vc_empty_space height="22px"][/vc_column][/vc_r
 ow][vc_row css_animation="" row_type="row" use_row_as_full_screen_section=
 "no" type="full_width" angled_section="no" text_align="left" background_im
 age_as_pattern="without_pattern"][vc_column][vc_separator type="normal" co
 lor="#000000" up="20" down="20"][/vc_column][/vc_row][vc_row css_animation
 ="" row_type="row" use_row_as_full_screen_section="no" type="full_width" a
 ngled_section="no" text_align="left" background_image_as_pattern="without_
 pattern"][vc_column][vc_column_text]\nPrograma\n[/vc_column_text][/vc_colu
 mn][/vc_row][vc_row css_animation="" row_type="row" use_row_as_full_screen
 _section="no" type="full_width" angled_section="no" text_align="left" back
 ground_image_as_pattern="without_pattern"][vc_column][vc_separator type="n
 ormal" color="#000000" up="20" down="20"][/vc_column][/vc_row][vc_row css_
 animation="" row_type="row" use_row_as_full_screen_section="no" type="full
 _width" angled_section="no" text_align="left" background_image_as_pattern=
 "without_pattern"][vc_column width="1/2"][vc_column_text css=""]Día 8 Nov
 : 8.15h. Salida hacia Cantabria.\nRuta: Hayedos de Alto Campoo y los Balco
 nes del Oso\nEn Alto Campoo y con la sierra de Hijar\, límite natural ent
 re Palencia y Cantabria\, se extiende un Hayedo a mitad de valle siguiendo
  las huellas de la tierra de osos\, envuelto en unas maravillosas vistas d
 e estas magníficas montañas.\n\nRECORRIDO: 12 Km. Aprox.\nDIFICULTAD: M
 edia – Baja –(condición física normal)\nDESNIVEL: 350 -350 m\n\nPor 
 la tarde\, alojamiento y cena (incl. MP) en nuestro hotel[/vc_column_text]
 [/vc_column][vc_column width="1/2"][vc_single_image image="6629" img_size=
 "full" css="" qode_css_animation=""][/vc_column][/vc_row][vc_row css_anima
 tion="" row_type="row" use_row_as_full_screen_section="no" type="full_widt
 h" angled_section="no" text_align="left" background_image_as_pattern="with
 out_pattern"][vc_column][vc_separator type="normal" color="#000000" up="20
 " down="20"][/vc_column][/vc_row][vc_row css_animation="" row_type="row" u
 se_row_as_full_screen_section="no" type="full_width" angled_section="no" t
 ext_align="left" background_image_as_pattern="without_pattern"][vc_column 
 width="1/2"][vc_column_text css=""]\nDía 9 Nov.: Los hayedos de Saja y Be
 saya\n\nRuta espectacular dentro de uno de los parques naturales más herm
 osos de Cantabria como es Saja-Besaya\, un espacio donde predominan hayedo
 s inmensos que en estas fechas otoñales los convierten en Bosques mágico
 s que tiñen sus hojas de variados colores a la altura de los mejores bosq
 ues de España\, y para finalizar\, el regalo de visitar Barcena Mayor\, d
 eclarado varios años como el pueblo más hermoso de Cantabria.\n\nComerem
 os en ruta de lo que compremos el día anterior en Reinosa\n\nRECORRIDO: 1
 3 Km. Aprox.\nDIFICULTAD: Media – Baja –(condición física normal)\n
 DESNIVEL: 250 -250 m\n\nPor la tarde\, alojamiento y cena (incl. MP) en nu
 estro hotel[/vc_column_text][/vc_column][vc_column width="1/2"][vc_single_
 image image="6630" img_size="full" css="" qode_css_animation=""][vc_empty_
 space height="22px"][vc_single_image image="6631" img_size="full" css="" q
 ode_css_animation=""][/vc_column][/vc_row][vc_row css_animation="" row_typ
 e="row" use_row_as_full_screen_section="no" type="full_width" angled_secti
 on="no" text_align="left" background_image_as_pattern="without_pattern"][v
 c_column][vc_separator type="normal" color="#000000" up="20" down="20"][/v
 c_column][/vc_row][vc_row css_animation="" row_type="row" use_row_as_full_
 screen_section="no" type="full_width" angled_section="no" text_align="left
 " background_image_as_pattern="without_pattern"][vc_column width="1/2"][vc
 _column_text css=""]\nDía 10 Nov.: Hayedo de la Guariza y Fontibre\n\nNac
 imiento del Ebro en Fontibre. El nombre Fontibre  hace referencia al n
 acimiento del Ebro\, pues deriva del latín Fontes Iberis («fuentes del 
 Ebro») y ya es citado por Plinio el Viejo cuando lo sitúa en las cercan
 ías de la ciudad romana de Julióbriga.\n\nLa tradición secular ha bauti
 zado a la La Fuentona como el «nacimiento del Ebro». Investigaciones rea
 lizadas por el Instituto Geológico y Minero de España realizadas en 1987
 \, pudieron determinar con certeza que el afloramiento de Fontibre tiene s
 u origen en el río Híjar\, que nace en el circo de pico Tres Mares () a 
 1.880 m de altura.\n\nGran parte del caudal de este río se filtra en el s
 ubsuelo aguas abajo de Paracuelles (el estiaje no seca el río\, contraria
 mente a lo que alguna vez se ha pensado) a poco más de 800 m del manantia
 l de Fontibre\, para resurgir más abajo\, en el Pilar de Fontibre.\n\nEn 
 Fontibre\, comenzará nuestra ruta por el precioso hayedo de la Guariza\, 
 en su máximo explendor\n\nA medio día\, comeremos por libre Fontibre.\n\
 nRECORRIDO: 10 Km. Aprox.\nDIFICULTAD: Media – Baja –(condición fís
 ica normal)\nDESNIVEL: 250 -250 m\n\nDespues de comer\, regreso a Madrid[/
 vc_column_text][/vc_column][vc_column width="1/2"][vc_single_image image="
 6632" img_size="full" css="" qode_css_animation=""][/vc_column][/vc_row][v
 c_row css_animation="" row_type="row" use_row_as_full_screen_section="no" 
 type="full_width" angled_section="no" text_align="left" background_image_a
 s_pattern="without_pattern"][vc_column][vc_separator type="normal" color="
 #000000" up="20" down="20"][/vc_column][/vc_row][vc_row css_animation="" r
 ow_type="row" use_row_as_full_screen_section="no" type="full_width" angled
 _section="no" text_align="left" background_image_as_pattern="without_patte
 rn"][vc_column][vc_column_text css=""]\nCómo verás\, un viaje completo p
 or los bosques más emblemáticos de Cantabria.\nNos alojaremos en un HOTE
 L 3***\, el Hotel Vejo de Reinosa.\n\nPrecio: 295€ – 285€ socios. (r
 eserva con 50€ y resto antes del 20 oct.) (HAB. INDIVIDUALES YA NO DISPO
 NIBLES(\n\n\nHora de Salida día 8 Nov: 08.15h.\nHora de llegada día 10 N
 ov: 20.30h. aprox.\n\nIncluye: Autocar privado\, rutas\, Alojamiento con M
 .P. en hab. doble (2 cenas\, y 2 desayunos) en HOTEL 3***\, Guía de Monta
 ña y monitores\, Seguro RC.\n\nNo incluye: lo no especificado en incluye.
 \n\nSalida: CHURRERIA PATUCHURRO C/Ariel\, 4 (frente estación Sur de Auto
 buses de Mendez Alvaro)[/vc_column_text][/vc_column][/vc_row][vc_row css_a
 nimation="" row_type="row" use_row_as_full_screen_section="no" type="full_
 width" angled_section="no" text_align="left" background_image_as_pattern="
 without_pattern"][vc_column][vc_separator type="normal" color="#000000" up
 ="20" down="20"][vc_column_text]Si en las 24h siguientes a la inscripción
  no te ha llegado el correo de confirmación\, mira en la bandeja de spam 
 (correo no deseado) o ponte en contacto en el telf.: 600 24 20 72\n\nTambi
 én puedes reservar enviando un mail con tus datos y número de reservas 
 a info@activatesenderismo.es\n\nSi necesitas un seguro de cancelación o d
 e viajes\, solicitanóslo\n\nAl asistir a la excursión se aceptan las co
 ndiciones generales[/vc_column_text][vc_separator type="normal" color="#00
 0000" up="20" down="20"][/vc_column][/vc_row][vc_row css_animation="" row_
 type="row" use_row_as_full_screen_section="no" type="full_width" angled_se
 ction="no" text_align="left" background_image_as_pattern="without_pattern"
 ][vc_column width="1/4"][/vc_column][vc_column width="3/4"][/vc_column][/v
 c_row][vc_row css_animation="" row_type="row" use_row_as_full_screen_secti
 on="no" type="full_width" angled_section="no" text_align="left" background
 _image_as_pattern="without_pattern"][vc_column][vc_empty_space height="22p
 x"][/vc_column][/vc_row]
LOCATION:Churreria Patuchurro - Calle Ariel\, 4 (frente estación Sur de Me
 ndez Alvaro)\, C/Ariel\, 4\, Madrid\, Madrid\, España
X-APPLE-STRUCTURED-LOCATION;VALUE=URI;X-ADDRESS=C/Ariel\, 4\, Madrid\, Madr
 id\, España;X-APPLE-RADIUS=100;X-TITLE=Churreria Patuchurro - Calle Ariel
 \, 4 (frente estación Sur de Mendez Alvaro):geo:0,0
END:VEVENT
END:VCALENDAR