BEGIN:VCALENDAR
VERSION:2.0
PRODID:-//wp-events-plugin.com//7.2.3.1//EN
BEGIN:VEVENT
UID:31@activatesenderismo.es
DTSTART:20260411T082000Z
DTEND:20260411T203000Z
DTSTAMP:20260204T105957Z
URL:https://activatesenderismo.es/events/parque-nacional-de-monfrague/
SUMMARY:Parque Nacional de Monfrague 11 Abril Sábado.
DESCRIPTION:[vc_row css_animation="" row_type="row" use_row_as_full_screen_
 section="no" type="full_width" angled_section="no" text_align="left" backg
 round_image_as_pattern="without_pattern"][vc_column][vc_column_text css=""
 ]Monfragüe se encuentra aproximadamente en el cen­tro de la provincia de
  Cáceres\, en el triángulo que formarían las conocidas ciudades de Plas
 encia\, Trujillo y Cáceres. Su eje vertebrador lo constituye el río Tajo
  a su paso por suaves montañas rodeadas de extensas dehesas.\n\n\n\nMonfr
 agüe\, con 18.396 hectáreas\, fue el primer espacio protegido de Extrema
 dura. Se declaró Parque Natural el 4 de abril de 1979\, tras varios años
  de lucha para evitar que las plantaciones de eucaliptos aterrazaran y eli
 minaran el matorral y bosque autóctono\, hábitat de gran cantidad de fau
 na amenazada.\n\n\n\nDesde su declaración como espacio protegido hasta ho
 y\, Monfragüe se ha ido consolidando como un verdadero santuario para obs
 ervar aves. Todos los años\, miles de turistas llegan a la zona para disf
 rutar del vuelo de las cigüeñas negras\, alimoches\, buitres o la rarís
 ima águila imperial. Desde su área de Uso Público\, una zona privilegia
 da como pocas\, puede disfrutarse no solo de fauna en peligro de extinció
 n sino también de paisajes y vegetación incomparables.\n\nLas sierras qu
 e delimitan este valle\, acogen una importante variedad de biotopos: encin
 ares\, bosque y matorral mediterráneo\, roquedos\, embalses y arroyos\, p
 ermitiendo la existencia de una rica y variada vida vegetal y animal.\n\nE
 ntre la fauna\, representada por más de 280 especies de vertebrados\, se 
 encuentran algunas de las especies más significativas de la naturaleza es
 pañola.\n\nRECORRIDO: 12 Km. Aprox.\nNIVEL: Medio-bajo - BUENA CONDICIÓ
 N FÍSICA. El senderismo es una actividad deportiva\, hay que estar en fo
 rma para desarrollarla\nDESNIVEL: 250 m -300M (pendientes pronunciadas de 
 subida al Castillo)\n\nIncluye: Autocar privado\, monitores\, y Seguro RC.
 \n\nNo incluye: La comida\, comeremos en ruta.\n\nPrecio: 29€\nPrecio So
 cios: 27€ - Aprovecha y hazte socio!! Cuota de socio anual: 20€ válid
 a 12 meses desde el mes de inscripción.\n\nHora de Salida: 08.20h.\nHora 
 de llegada: 20.30h. aprox.\n\nSalida: CHURRERIA PATUCHURRO C/Ariel\, 5 (f
 rente estación Sur de Autobuses de Mendez Alvaro)\n\nSi en las 24h siguie
 ntes a la inscripción no te ha llegado el correo de confirmación\, mira 
 en la bandeja de spam (correo no deseado) o ponte en contacto en el telf.\
 ; 600 24 20 72\n\nAl asistir a la excursión se aceptan las condiciones ge
 nerales\n\nTambién puedes reservar enviando un mail con tus datos y núm
 ero de reservas a info@activatesenderismo.es[/vc_column_text][/vc_column][
 /vc_row][vc_row css_animation="" row_type="row" use_row_as_full_screen_sec
 tion="no" type="full_width" angled_section="no" text_align="left" backgrou
 nd_image_as_pattern="without_pattern"][vc_column][vc_column_text css=""]\n
 plazas disponibles\n[/vc_column_text][/vc_column][/vc_row]
ATTACH;FMTTYPE=image/jpeg:https://activatesenderismo.es/wp-content/uploads
 /2015/08/monfrague.jpg
LOCATION:Churreria Patuchurro - Calle Ariel\, 4 (frente estación Sur de Me
 ndez Alvaro)\, C/Ariel\, 4\, Madrid\, Madrid\, España
X-APPLE-STRUCTURED-LOCATION;VALUE=URI;X-ADDRESS=C/Ariel\, 4\, Madrid\, Madr
 id\, España;X-APPLE-RADIUS=100;X-TITLE=Churreria Patuchurro - Calle Ariel
 \, 4 (frente estación Sur de Mendez Alvaro):geo:0,0
END:VEVENT
END:VCALENDAR