BEGIN:VCALENDAR
VERSION:2.0
PRODID:-//wp-events-plugin.com//7.2.3.1//EN
BEGIN:VEVENT
UID:84@activatesenderismo.es
DTSTART:20251018T080000Z
DTEND:20251019T203000Z
DTSTAMP:20251015T101513Z
URL:https://activatesenderismo.es/events/merindades-una-comarca-de-cuento-
 2/
SUMMARY:Merindades\, una comarca de cuento *Finde 18-19 Oct.*
DESCRIPTION:[vc_row css_animation="" row_type="row" use_row_as_full_screen_
 section="no" type="full_width" angled_section="no" text_align="left" backg
 round_image_as_pattern="without_pattern"][vc_column][vc_separator type="no
 rmal" color="#000000" up="20" down="20"][/vc_column][/vc_row][vc_row css_a
 nimation="" row_type="row" use_row_as_full_screen_section="no" type="full_
 width" angled_section="no" text_align="left" background_image_as_pattern="
 without_pattern" z_index="" background_color="#ededed"][vc_column][vc_tabs
  style="horizontal"][vc_tab title="Precio" tab_id="de2c7a30-5835-4b4fa-926
 6"][vc_column_text css=""]Precio: (175€ – 165€ socios)\n\nSuplemento
  habitación individual: 60€ (ya agotadas)[/vc_column_text][/vc_tab][vc_
 tab title="Horario" tab_id="8433a977-5a0e-9b4fa-9266"][vc_column_text css=
 ""]Hora de Salida día 18 Octubre: 08.00h.\nHora de llegada día 19 Octubr
 e: 20.30h. aprox.[/vc_column_text][/vc_tab][vc_tab title="Incluye" tab_id=
 "1592411685044-2-2b4fa-9266"][vc_column_text css=""]Incluye: Autocar priva
 do\, rutas\, Alojamiento con M.P. en hab. Dobles (1 cena y 1 desayuno) en 
 HOTEL*** en Reinosa\, monitores\, Seguro RC.\n\nNo incluye: Lo no incluido
  en en Incluye.[/vc_column_text][/vc_tab][vc_tab title="Requisitos" tab_id
 ="1592411747704-3-8b4fa-9266"][vc_column_text]REQUISITOS\nTener entre 30 y
  55 años aprox. Botas de trekking\, 1/1\,5 litros de agua\, chubasquero y
  muchas ganas de divertirte.\n\nEl grupo se confirmará con un minimo de 2
 5 pax.[/vc_column_text][/vc_tab][/vc_tabs][vc_empty_space height="22px"][/
 vc_column][/vc_row][vc_row css_animation="" row_type="row" use_row_as_full
 _screen_section="no" type="full_width" angled_section="no" text_align="lef
 t" background_image_as_pattern="without_pattern"][vc_column][vc_separator 
 type="normal" color="#000000" up="20" down="20"][/vc_column][/vc_row][vc_r
 ow css_animation="" row_type="row" use_row_as_full_screen_section="no" typ
 e="full_width" angled_section="no" text_align="left" background_image_as_p
 attern="without_pattern"][vc_column][vc_column_text]\nPrograma\n[/vc_colum
 n_text][/vc_column][/vc_row][vc_row css_animation="" row_type="row" use_ro
 w_as_full_screen_section="no" type="full_width" angled_section="no" text_a
 lign="left" background_image_as_pattern="without_pattern"][vc_column][vc_s
 eparator type="normal" color="#000000" up="20" down="20"][/vc_column][/vc_
 row][vc_row css_animation="" row_type="row" use_row_as_full_screen_section
 ="no" type="full_width" angled_section="no" text_align="left" background_i
 mage_as_pattern="without_pattern"][vc_column width="1/2"][vc_column_text c
 ss=""]DÍA 18 OCTUBRE: PUENTEDEY Y OJO GUAREÑA \n\nSalida de Madrid a las
  8:00h dirección Soncillo/Puentedey. Parada en carretera para descanso.\n
 \nRealizaremos una preciosa ruta entre soncillo y Puentedey. Ruta que reco
 rre el GR-85 en las merindades (Burgos) pasando por la cascada de las pisa
 s hasta llegar a Puentedey\n\nSoncillo-Puentedey:\nInicio ruta: Soncillo\n
 Final ruta: Puentedey.\nDesnivel en positivo: 170m\nDesnivel en negativo: 
 320m\nDistancia: 12km aprox\nDificultad: Baja-media (tramo en vía verde\,
  llevar zapatilla/bota trekking\, condición física normal)\n\nComida en 
 ruta (llevar bocadillo o comprar en el área de servicio)\n\nPor la tarde\
 , hemos reservado entrada para la visita al monumento natural de Ojo Guare
 ña (incl.)\n\nDespués\, nos desplazaremos a nuestro hotel en Reinosa\, c
 ena (incl. MP) y alojamiento.[/vc_column_text][/vc_column][vc_column width
 ="1/2"][vc_single_image image="1816" img_size="full" qode_css_animation=""
 ][vc_empty_space height="22px"][vc_single_image image="1817" img_size="ful
 l" qode_css_animation=""][/vc_column][/vc_row][vc_row css_animation="" row
 _type="row" use_row_as_full_screen_section="no" type="full_width" angled_s
 ection="no" text_align="left" background_image_as_pattern="without_pattern
 "][vc_column][vc_separator type="normal" color="#000000" up="20" down="20"
 ][/vc_column][/vc_row][vc_row css_animation="" row_type="row" use_row_as_f
 ull_screen_section="no" type="full_width" angled_section="no" text_align="
 left" background_image_as_pattern="without_pattern"][vc_column width="1/2"
 ][vc_column_text css=""]DIA 19 OCTUBRE: ORBANEJA DEL CASTILLO\n\nDespues d
 e desayunar visitaremos una de las Joyas de Merindades\, Orbaneja del Cast
 illo. Un pueblo espectacular que te recibe con una cascada. Realizaremos u
 na preciosa ruta\, por bosque de ribera de 8 km aprox.\n\nEscalada-Orbanej
 a del Castillo:\nInicio ruta: Escalada\nFinal ruta: Orbaneja del Castillo.
 \nDesnivel en positivo: 100m\nDesnivel en negativo: 100m\nDistancia: 8km a
 prox\nDificultad: Media-Baja (condición física normal)\n\nDespués de co
 mer en sus bares. Regreso a Madrid.[/vc_column_text][/vc_column][vc_column
  width="1/2"][vc_single_image image="1812" img_size="full" qode_css_animat
 ion=""][vc_empty_space height="22px"][vc_single_image image="1815" img_siz
 e="full" qode_css_animation=""][/vc_column][/vc_row][vc_row css_animation=
 "" row_type="row" use_row_as_full_screen_section="no" type="full_width" an
 gled_section="no" text_align="left" background_image_as_pattern="without_p
 attern"][vc_column][vc_separator type="normal" color="#000000" up="20" dow
 n="20"][/vc_column][/vc_row][vc_row css_animation="" row_type="row" use_ro
 w_as_full_screen_section="no" type="full_width" angled_section="no" text_a
 lign="left" background_image_as_pattern="without_pattern"][vc_column][vc_c
 olumn_text css=""]Cómo verás\, un viaje completo por una espectacular co
 marca\, en una época ideal\, nuevos amigos\, en Hotel de 3* en Reinosa (H
 otel Vejo)\, Todo a un precio muy ajustado\, y con nuestro autocar\, cerca
  de todo!!\n\nIncluye: Autocar privado\, rutas\, Alojamiento con M.P. en h
 ab. Dobles (1 cenas y 1 desayunos) en HOTEL Vejo*** en Reinosa\, monitores
 \, Seguro RC.\n\nNo incluye: lo no incluido en se Incluye\n\nPrecio hab. c
 ompartida: 175 € (socios 165€)\n(Habitaciones individuales (Agotadas)\
 n\nHora de Salida día 18 Oct: 08.00h.\nHora de llegada día 19 Oct: 20.3
 0h. aprox.\n\nSalida: CHURRERIA PATUCHURRO C/Ariel\, 4 (frente estación S
 ur de Autobuses de Mendez Alvaro)[/vc_column_text][/vc_column][/vc_row][vc
 _row css_animation="" row_type="row" use_row_as_full_screen_section="no" t
 ype="full_width" angled_section="no" text_align="left" background_image_as
 _pattern="without_pattern"][vc_column][vc_separator type="normal" color="#
 000000" up="20" down="20"][vc_column_text]Si en las 24h siguientes a la in
 scripción no te ha llegado el correo de confirmación\, mira en la bandej
 a de spam (correo no deseado) o ponte en contacto en el telf.: 600 24 20 7
 2\n\nTambién puedes reservar enviando un mail con tus datos y número de
  reservas a info@activatesenderismo.es\n\nSi necesitas un seguro de cancel
 ación o de viajes\, solicítanoslo\n\nAl asistir a la excursión se acept
 an las condiciones generales[/vc_column_text][vc_separator type="normal" 
 color="#000000" up="20" down="20"][/vc_column][/vc_row][vc_row css_animati
 on="" row_type="row" use_row_as_full_screen_section="no" type="full_width"
  angled_section="no" text_align="left" background_image_as_pattern="withou
 t_pattern"][vc_column width="1/4"][/vc_column][vc_column width="3/4"][/vc_
 column][/vc_row][vc_row css_animation="" row_type="row" use_row_as_full_sc
 reen_section="no" type="full_width" angled_section="no" text_align="left" 
 background_image_as_pattern="without_pattern"][vc_column][vc_empty_space h
 eight="22px"][/vc_column][/vc_row]
LOCATION:Churreria Patuchurro - Calle Ariel\, 4 (frente estación Sur de Me
 ndez Alvaro)\, C/Ariel\, 4\, Madrid\, Madrid\, España
X-APPLE-STRUCTURED-LOCATION;VALUE=URI;X-ADDRESS=C/Ariel\, 4\, Madrid\, Madr
 id\, España;X-APPLE-RADIUS=100;X-TITLE=Churreria Patuchurro - Calle Ariel
 \, 4 (frente estación Sur de Mendez Alvaro):geo:0,0
END:VEVENT
END:VCALENDAR