BEGIN:VCALENDAR
VERSION:2.0
PRODID:-//wp-events-plugin.com//7.2.3.1//EN
BEGIN:VEVENT
UID:85@activatesenderismo.es
DTSTART:20241101T083000Z
DTEND:20241103T203000Z
DTSTAMP:20241031T085138Z
URL:https://activatesenderismo.es/events/irati-urbasa-2/
SUMMARY:IRATI – URBASA **1-3 Nov.**
DESCRIPTION:[vc_row css_animation="" row_type="row" use_row_as_full_screen_
 section="no" type="full_width" angled_section="no" text_align="left" backg
 round_image_as_pattern="without_pattern"][vc_column][vc_separator type="no
 rmal" color="#000000" up="20" down="20"][/vc_column][/vc_row][vc_row css_a
 nimation="" row_type="row" use_row_as_full_screen_section="no" type="full_
 width" angled_section="no" text_align="left" background_image_as_pattern="
 without_pattern" z_index="" background_color="#ededed"][vc_column][vc_tabs
  style="horizontal"][vc_tab title="Precio" tab_id="de2c7a30-5835-4"][vc_co
 lumn_text css=""]Precio: 295€ – 285€ socios. (reserva con 50€ y re
 sto antes del 10 oct.)\nSuplemento habitación individual: No disponibles\
 n\nAprovecha y hazte socio!! Cuota de socio anual: 20€ válida 12 meses 
 desde el mes de inscripción.[/vc_column_text][/vc_tab][vc_tab title="Hora
 rio" tab_id="8433a977-5a0e-9"][vc_column_text css=""]Hora de Salida día 1
  Nov.: 08.30h.\nHora de llegada día 3 Nov.: 20.30h. aprox.[/vc_column_tex
 t][/vc_tab][vc_tab title="Incluye" tab_id="1592411685044-2-2"][vc_column_t
 ext css=""]Incluye: Autocar privado\, rutas\, Alojamiento con M.P. en hab.
  doble (1 cenas\, 1 picnic y 2 desayunos) en HOTEL 4****\, Guía de Monta
 ña y monitores\, Seguro RC.\n\nNo incluye: lo no especificado en incluye.
 [/vc_column_text][/vc_tab][vc_tab title="Requisitos" tab_id="1592411747704
 -3-8"][vc_column_text]REQUISITOS\nTener entre 30 y 55 años aprox. Botas/z
 apatillas de trekking\, 1/1\,5 litros de agua\, chubasquero y muchas ganas
  de divertirte.\n\nEl grupo se confirmará con un minimo de 20 pax.[/vc_co
 lumn_text][/vc_tab][/vc_tabs][vc_empty_space height="22px"][/vc_column][/v
 c_row][vc_row css_animation="" row_type="row" use_row_as_full_screen_secti
 on="no" type="full_width" angled_section="no" text_align="left" background
 _image_as_pattern="without_pattern"][vc_column][vc_separator type="normal"
  color="#000000" up="20" down="20"][/vc_column][/vc_row][vc_row css_animat
 ion="" row_type="row" use_row_as_full_screen_section="no" type="full_width
 " angled_section="no" text_align="left" background_image_as_pattern="witho
 ut_pattern"][vc_column][vc_column_text]\nPrograma\n[/vc_column_text][/vc_c
 olumn][/vc_row][vc_row css_animation="" row_type="row" use_row_as_full_scr
 een_section="no" type="full_width" angled_section="no" text_align="left" b
 ackground_image_as_pattern="without_pattern"][vc_column][vc_separator type
 ="normal" color="#000000" up="20" down="20"][/vc_column][/vc_row][vc_row c
 ss_animation="" row_type="row" use_row_as_full_screen_section="no" type="f
 ull_width" angled_section="no" text_align="left" background_image_as_patte
 rn="without_pattern"][vc_column width="1/2"][vc_column_text css=""]Día 1 
 Nov: 8.30h. Salida hacia Urbasa. Comeremos en ruta (traer comida y bebida)
 \, y realizaremos una preciosa ruta por el Hayedo encantado de Urbasa.\n\n
 RECORRIDO: 9 Km. Aprox.\nDIFICULTAD: Media – Baja –(condición físic
 a normal)\nDESNIVEL: 200 -200 m\n\nPor la tarde\, alojamiento y cena (incl
 . MP) en nuestro hotel[/vc_column_text][/vc_column][vc_column width="1/2"]
 [vc_single_image image="5027" img_size="full" qode_css_animation=""][/vc_c
 olumn][/vc_row][vc_row css_animation="" row_type="row" use_row_as_full_scr
 een_section="no" type="full_width" angled_section="no" text_align="left" b
 ackground_image_as_pattern="without_pattern"][vc_column][vc_separator type
 ="normal" color="#000000" up="20" down="20"][/vc_column][/vc_row][vc_row c
 ss_animation="" row_type="row" use_row_as_full_screen_section="no" type="f
 ull_width" angled_section="no" text_align="left" background_image_as_patte
 rn="without_pattern"][vc_column width="1/2"][vc_column_text css=""]\nDía 
 2 Nov.: Selva de irati\nLa Selva de Irati es el segundo hayedo-abetal más
  extenso y mejor conservado de Europa\, después de la Selva Negra de A
 lemania. Una inmensa mancha verde de unas 17.000 hectáreas que se mantien
 e en estado casi virgen. Se encuentra situada en el Pirineo oriental nav
 arro\, en una cuenca rodeada por montañas (Ori\, Abodi…)\, en la cabece
 ra de los pirenaicos valles de Aezkoa y Salazar.\nLa Selva de Irati es u
 n tesoro natural con gran valor ecológico en el que conviven distintas fi
 guras de protección como las reservas naturales de Mendilatz y Tristui
 bartea y la reserva integral de Lizardoia. Tupidos hayedos\, pastizales\
 , abetos y frescas aguas pintan un paisaje de colores vivos que se transfo
 rma con cada nueva estación.\n\nComeremos de picnic (incl. MP)\n\nRECORRI
 DO: 10 Km. Aprox.\nDIFICULTAD: Media – Baja –(condición física norm
 al)\nDESNIVEL: 150 -150 m\n\nPor la noche\, cena por libre de pinchos en P
 amplona[/vc_column_text][/vc_column][vc_column width="1/2"][vc_single_imag
 e image="2107" img_size="full" qode_css_animation=""][vc_empty_space heigh
 t="22px"][vc_single_image image="2239" img_size="full" qode_css_animation=
 ""][/vc_column][/vc_row][vc_row css_animation="" row_type="row" use_row_as
 _full_screen_section="no" type="full_width" angled_section="no" text_align
 ="left" background_image_as_pattern="without_pattern"][vc_column][vc_separ
 ator type="normal" color="#000000" up="20" down="20"][/vc_column][/vc_row]
 [vc_row css_animation="" row_type="row" use_row_as_full_screen_section="no
 " type="full_width" angled_section="no" text_align="left" background_image
 _as_pattern="without_pattern"][vc_column width="1/2"][vc_column_text css="
 "]\nDía 3 Nov.: Nacedero de Urederra \nEl murmullo del agua cristalina\,
  la luz que se filtra entre las hojas de los árboles tiñendo de verde li
 ma el paisaje y el aroma a naturaleza contribuyen a que este lugar\, decla
 rado reserva natural en 1987\, sea uno de los enclaves más espectaculare
 s de Navarra.\nEl Nacedero del Urederra\, situado al norte de Estella-Liz
 arra\, es la salida natural del acuífero formado en el macizo kárstico d
 e Urbasa. La primera surgencia se produce en un cortado a 700 metros de a
 ltitud en el reborde meridional del macizo\, originando una impresionante 
 caída de más de 100 metros que con el transcurso de millones de años ha
  modelado un anfiteatro rocoso de notable belleza.\n\nA medio día\, comer
 emos por libre en la preciosa ciudad de Estella\n\nRECORRIDO: 10 Km. Aprox
 .\nDIFICULTAD: Media – Baja –(condición física normal)\nDESNIVEL: 1
 50 -650 m\n\nDespues de comer\, regreso a Madrid[/vc_column_text][/vc_colu
 mn][vc_column width="1/2"][vc_single_image image="2219" img_size="full" qo
 de_css_animation=""][/vc_column][/vc_row][vc_row css_animation="" row_type
 ="row" use_row_as_full_screen_section="no" type="full_width" angled_sectio
 n="no" text_align="left" background_image_as_pattern="without_pattern"][vc
 _column][vc_separator type="normal" color="#000000" up="20" down="20"][/vc
 _column][/vc_row][vc_row css_animation="" row_type="row" use_row_as_full_s
 creen_section="no" type="full_width" angled_section="no" text_align="left"
  background_image_as_pattern="without_pattern"][vc_column][vc_column_text 
 css=""]\nPor octavo año consecutivo (excluyendo 2020 por restricciones co
 vid) visitamos estos bosques mágicos de Navarra\, junto con Pamplona y Es
 tella\, alojándonos en un Hotel de 4****\, y con el ambiente más divert
 ido! puedes ver las fotos de años anteriores pinchando aquí\nCómo verá
 s\, un viaje completo por los bosques más emblemáticos de la península.
 \nNos alojaremos en un HOTEL 4****\, el Hotel Blanca de Navarra\, Pamplona
 .\n\nPrecio: 295€ – 285€ socios. (reserva con 50€ y resto antes de
 l 10 oct.)\n\n\nHora de Salida día 1 Nov: 08.30h.\nHora de llegada día 3
  Nov: 20.30h. aprox.\n\nIncluye: Autocar privado\, rutas\, Alojamiento con
  M.P. en hab. doble (1 cenas\, 1 picnic y 2 desayunos) en HOTEL 4****\, Gu
 ía de Montaña y monitores\, Seguro RC.\n\nNo incluye: lo no especificado
  en incluye.\n\nSalida: CHURRERIA PATUCHURRO C/Ariel\, 4 (frente estación
  Sur de Autobuses de Mendez Alvaro)[/vc_column_text][/vc_column][/vc_row][
 vc_row css_animation="" row_type="row" use_row_as_full_screen_section="no"
  type="full_width" angled_section="no" text_align="left" background_image_
 as_pattern="without_pattern"][vc_column][vc_separator type="normal" color=
 "#000000" up="20" down="20"][vc_column_text]Si en las 24h siguientes a la 
 inscripción no te ha llegado el correo de confirmación\, mira en la band
 eja de spam (correo no deseado) o ponte en contacto en el telf.: 600 24 20
  72\n\nTambién puedes reservar enviando un mail con tus datos y número 
 de reservas a info@activatesenderismo.es\n\nSi necesitas un seguro de canc
 elación o de viajes\, solicitanóslo\n\nAl asistir a la excursión se ace
 ptan las condiciones generales[/vc_column_text][vc_separator type="normal
 " color="#000000" up="20" down="20"][/vc_column][/vc_row][vc_row css_anima
 tion="" row_type="row" use_row_as_full_screen_section="no" type="full_widt
 h" angled_section="no" text_align="left" background_image_as_pattern="with
 out_pattern"][vc_column width="1/4"][/vc_column][vc_column width="3/4"][vc
 _column_text css=""]Disponible una plaza de chica en hab. compartida. Si e
 stás interesada\, llama al 600 24 20 72[/vc_column_text][/vc_column][/vc_
 row][vc_row css_animation="" row_type="row" use_row_as_full_screen_section
 ="no" type="full_width" angled_section="no" text_align="left" background_i
 mage_as_pattern="without_pattern"][vc_column][vc_empty_space height="22px"
 ][/vc_column][/vc_row]
LOCATION:Churreria Patuchurro - Calle Ariel\, 4 (frente estación Sur de Me
 ndez Alvaro)\, C/Ariel\, 4\, Madrid\, Madrid\, España
X-APPLE-STRUCTURED-LOCATION;VALUE=URI;X-ADDRESS=C/Ariel\, 4\, Madrid\, Madr
 id\, España;X-APPLE-RADIUS=100;X-TITLE=Churreria Patuchurro - Calle Ariel
 \, 4 (frente estación Sur de Mendez Alvaro):geo:0,0
END:VEVENT
END:VCALENDAR