BEGIN:VCALENDAR
VERSION:2.0
PRODID:-//wp-events-plugin.com//7.2.3.1//EN
BEGIN:VEVENT
UID:32@activatesenderismo.es
DTSTART:20250928T090000Z
DTEND:20250928T203000Z
DTSTAMP:20250926T103714Z
URL:https://activatesenderismo.es/events/cortados-de-una/
SUMMARY:Catedrales de Uña 28 septiembre Dom.
DESCRIPTION:[vc_row css_animation="" row_type="row" use_row_as_full_screen_
 section="no" type="full_width" angled_section="no" text_align="left" backg
 round_image_as_pattern="without_pattern"][vc_column][vc_column_text css=""
 ]En Uña se encuentra una de las rutas de senderismo más conocidas y bell
 as de toda la Serranía de Cuenca: La Ruta del Escalerón a La Raya. Un to
 tal de 9 kilómetros y unos 300 metros de desnivel forman esta preciosa ru
 ta\, que más que una ruta es toda una experiencia.\n     \nSe empieza bor
 deando la imponente Laguna de Uña. Prosigue el recorrido con la subida po
 r el escalerón. Varias fuentes a lo largo del camino hacen de esta subida
  algo muy llevadero. Una vez arriba te darás cuenta de que ese pequeño e
 sfuerzo ha valido la pena. Seguimos la ruta bordeando las buitreras que ro
 dean la laguna. ¡Con un poco de suerte verás los buitres volando cerca d
 e ti! Empieza la bajada por un callejón lleno de vegetación y misterio\,
  digno de película. ¡Ahora es cuando llegas a la raya! Una espectacular 
 grieta metida en la roca\, a través de la cual andarás hasta empezar el 
 descenso y la vuelta al pueblo. ¡Increíble! ¡No te olvides de tu cámar
 a de fotos!  \n\nRECORRIDO: 9 Km. Aprox.\nNIVEL: Medio-bajo (Condición 
 física normal)\nDESNIVEL: 250 m -300M (cuesta pronunciada para subir a l
 os cortados\, hay que estar en forma) recomendable bastón de senderismo\n
 \nIncluye: Autocar privado\, monitores\, y Seguro RC.\n\nNo incluye: La c
 omida\, comeremos en ruta\, llevar bocata y agua.\n\nPrecio: 26€\nPrecio
  Socios: 24€\nHora de Salida: 09.00h.\nHora de llegada: 20.30h. aprox.\
 n\nSalida: CHURRERIA PATUCHURRO C/Ariel\, 4 (frente estación Sur de Autob
 uses de Mendez Alvaro)\n\n&nbsp\;\n\nSi en las 24h siguientes a la inscrip
 ción no te ha llegado el correo de confirmación\, mira en la bandeja de 
 spam (correo no deseado) o ponte en contacto en el telf.\; 600 24 20 72\n\
 nAl asistir a la excursión se aceptan las condiciones generales\n\nTambi
 én puedes reservar enviando un mail con tus datos y número de reservas 
 a info@activatesenderismo.es[/vc_column_text][/vc_column][/vc_row]
LOCATION:Churreria Patuchurro - Calle Ariel\, 4 (frente estación Sur de Me
 ndez Alvaro)\, C/Ariel\, 4\, Madrid\, Madrid\, España
X-APPLE-STRUCTURED-LOCATION;VALUE=URI;X-ADDRESS=C/Ariel\, 4\, Madrid\, Madr
 id\, España;X-APPLE-RADIUS=100;X-TITLE=Churreria Patuchurro - Calle Ariel
 \, 4 (frente estación Sur de Mendez Alvaro):geo:0,0
END:VEVENT
END:VCALENDAR