BEGIN:VCALENDAR
VERSION:2.0
PRODID:-//wp-events-plugin.com//7.2.3.1//EN
BEGIN:VEVENT
UID:95@activatesenderismo.es
DTSTART:20250515T083000Z
DTEND:20250518T203000Z
DTSTAMP:20250512T121521Z
URL:https://activatesenderismo.es/events/congost-del-mont-rebei-y-pasarela
 s-de-montfalco-san-isidro/
SUMMARY:Congost del Mont Rebei y Pasarelas de Montfalcó **SAN ISIDRO 15-18
  Mayo**
DESCRIPTION:[vc_row css_animation="" row_type="row" use_row_as_full_screen_
 section="no" type="full_width" angled_section="no" text_align="left" backg
 round_image_as_pattern="without_pattern"][vc_column][vc_separator type="no
 rmal" color="#000000" up="20" down="20"][/vc_column][/vc_row][vc_row css_a
 nimation="" row_type="row" use_row_as_full_screen_section="no" type="full_
 width" angled_section="no" text_align="left" background_image_as_pattern="
 without_pattern" z_index="" background_color="#ededed"][vc_column][vc_tabs
  style="horizontal"][vc_tab title="Precio" tab_id="de2c7a30-5835-4"][vc_co
 lumn_text css=""]Precio: (435€ – 425€ socios) Reserva con 50€ y el
  resto del pago antes del 20 de abril.\nSuplemento habitación individual:
  150€ (habitaciones limitadas)\n\nAprovecha y hazte socio!! Cuota de soc
 io anual: 20€ válida 12 meses desde el mes de inscripción.[/vc_column_
 text][/vc_tab][vc_tab title="Horario" tab_id="8433a977-5a0e-9"][vc_column_
 text css=""]Hora de Salida día 15 Mayo: 08.30h.\nHora de llegada día 18 
 Mayo: 20.30h. aprox.[/vc_column_text][/vc_tab][vc_tab title="Incluye" tab_
 id="1592411685044-2-2"][vc_column_text css=""]Incluye: Autocar\, rutas\, A
 lojamiento con M.P. en hab. doble (3 cenas buffet (bebidas no incluidas) y
  3 desayunos) en HOTEL 4*\, Guía de Montaña y monitores\, Seguro RC.\n\n
 No incluye: lo no especificado en incluye.[/vc_column_text][/vc_tab][vc_ta
 b title="Requisitos" tab_id="1592411747704-3-8"][vc_column_text]REQUISITOS
 \nTener entre 18 y 55 años aprox. Botas/zapatillas de trekking\, 1/1\,5 l
 itros de agua\, chubasquero y muchas ganas de divertirte.\n\nEl grupo se c
 onfirmará con un minimo de 20 pax.[/vc_column_text][/vc_tab][/vc_tabs][vc
 _empty_space height="22px"][/vc_column][/vc_row][vc_row css_animation="" r
 ow_type="row" use_row_as_full_screen_section="no" type="full_width" angled
 _section="no" text_align="left" background_image_as_pattern="without_patte
 rn"][vc_column][vc_separator type="normal" color="#000000" up="20" down="2
 0"][/vc_column][/vc_row][vc_row css_animation="" row_type="row" use_row_as
 _full_screen_section="no" type="full_width" angled_section="no" text_align
 ="left" background_image_as_pattern="without_pattern"][vc_column][vc_colum
 n_text]\nPrograma\n[/vc_column_text][/vc_column][/vc_row][vc_row css_anima
 tion="" row_type="row" use_row_as_full_screen_section="no" type="full_widt
 h" angled_section="no" text_align="left" background_image_as_pattern="with
 out_pattern"][vc_column][vc_separator type="normal" color="#000000" up="20
 " down="20"][/vc_column][/vc_row][vc_row css_animation="" row_type="row" u
 se_row_as_full_screen_section="no" type="full_width" angled_section="no" t
 ext_align="left" background_image_as_pattern="without_pattern"][vc_column 
 width="1/2"][vc_column_text css=""]Día 15 Mayo: Alquezar y pasarelas del 
 vero\n\n08.30 Salida hacia Alquezar.\n\nEn torno a la villa medieval de Al
 quézar\, considerado uno de los pueblos más bonitos de España por sus v
 alores paisajísticos\, culturales y naturales\, descubre en apenas dos 
 horas un espectáculo natural inolvidable en un recorrido fácil y divert
 ido. Prepara tus sentidos para disfrutar de sensaciones únicas. (las pa
 sarelas no tienen mucha altura)\n\nAdmira la belleza del último tramo del
  cañón del río Vero\, la espectacular combinación de agua y roca en ca
 os naturales únicos. Los trabajos del hombre en pos del aprovechamiento d
 e la fuerza del agua en el río.[/vc_column_text][/vc_column][vc_column wi
 dth="1/2"][vc_single_image image="3619" img_size="full" qode_css_animation
 =""][vc_empty_space height="22px"][vc_single_image image="3620" img_size="
 full" qode_css_animation=""][/vc_column][/vc_row][vc_row css_animation="" 
 row_type="row" use_row_as_full_screen_section="no" type="full_width" angle
 d_section="no" text_align="left" background_image_as_pattern="without_patt
 ern"][vc_column][vc_separator type="normal" color="#000000" up="20" down="
 20"][/vc_column][/vc_row][vc_row css_animation="" row_type="row" use_row_a
 s_full_screen_section="no" type="full_width" angled_section="no" text_alig
 n="left" background_image_as_pattern="without_pattern"][vc_column width="1
 /2"][vc_column_text css=""]Día 16 Mayo: Congost de Mont Rebei y Pasarelas
  de Montfalcó\n\nEsta ruta nos permite descubrir el monumental desfilader
 o o congosto de Mont-rebei accediendo a él desde el Pallars Jussá. Empez
 amos la excursión en el aparcamiento de la Masieta y la Horta del Pinell 
 y desde este punto llegamos al desfiladero a través del puente colgante d
 el barranco de Sant Jaume. Recorremos todo el desfiladero de Mont-rebei po
 r el espectacular sendero que hay excavado en la roca y\, finalmente\, baj
 amos por el pequeño desfiladero del Seguer hasta el puente de Montfalcó.
  Este puente vuelve a comunicar Cataluña con Aragón sesenta años despu
 és de haberse construido el embalse de Canelles. Aunque es una ruta que s
 e puede hacer en una mañana\, recomendamos ir sin prisa y disfrutar con c
 alma y poco a poco de este paraje natural excepcional.\n\nLas Pasarelas de
  Montfalcó\, son toda una majestuosa obra de ingeniería realizada por el
  hombre con el único fin de unir los caminos naturales que separan a las
  provincias de Huesca y Lérida. Se dice que para poder ejecutar la obra t
 uvieron que ayudarse de un helicóptero y de escaladores profesionales\, p
 ara lograr sentar los escalones a lo largo de los 80 metros de altura que 
 tiene la pared.\n\nDOS NIVELES\nNIVEL SIN ESCALERAS (desde el parking por 
 el congost de Mont-Rebei (sendero excavado en la roca) hasta el puente de 
 montfalcó y vuelta)\nNIVEL COMPLETO (Desde Montfalcó (sendero excavado e
 n la roca y escaleras de subida) hasta el parking de Mont Rebei\n\nDistanc
 ia: 10 km. Dificultad: Baja-media (condición física normal)(Imprescind
 ible Zapatilla/Bota de Trekking)\nDesnivel en positivo: 180 m.\nDesnivel e
 n negativo: 150 m.[/vc_column_text][/vc_column][vc_column width="1/2"][vc
 _single_image image="4674" img_size="full" qode_css_animation=""][vc_empty
 _space height="22px"][vc_single_image image="3840" img_size="full" qode_cs
 s_animation=""][/vc_column][/vc_row][vc_row css_animation="" row_type="row
 " use_row_as_full_screen_section="no" type="full_width" angled_section="no
 " text_align="left" background_image_as_pattern="without_pattern"][vc_colu
 mn][vc_separator type="normal" color="#000000" up="20" down="20"][/vc_colu
 mn][/vc_row][vc_row css_animation="" row_type="row" use_row_as_full_screen
 _section="no" type="full_width" angled_section="no" text_align="left" back
 ground_image_as_pattern="without_pattern"][vc_column width="1/2"][vc_colum
 n_text css=""]Día 17 Mayo: Sierra de Guara\n\nPaisajes de cal y agua. Mil
  y una formaciones kársticas\n\nLa espectacularidad del Parque radica en 
 los sorprendentes paisajes esculpidos por la acción del agua. Sus famoso
 s “cañones” son estrechos y profundos barrancos por donde los ríos\,
  cuyas aguas tienen un llamativo color turquesa\, fluyen formando impresio
 nantes cascadas\, sifones\, cuevas\, etc.\n\nLas escarpadas paredes rocosa
 s son lugares excepcionales para que las grandes aves como el buitre leon
 ado\, el águila real o el quebrantahuesos establezcan sus nidos. Entre lo
 s mamíferos\, destacan el jabalí\, zorro\, gato montés\, lirón y  gar
 duña.\n\nRuta de la Ermita de la Virgen del Castillo. Rodellar\nDesnivel 
 en positivo: 250m\nDesnivel en negativo: 150m\nDistancia: 5 km\nDificulta
 d: Media - Baja (condición física normal)[/vc_column_text][/vc_column][
 vc_column width="1/2"][vc_single_image image="3623" img_size="full" css=""
  qode_css_animation=""][vc_empty_space height="22px"][/vc_column][/vc_row]
 [vc_row css_animation="" row_type="row" use_row_as_full_screen_section="no
 " type="full_width" angled_section="no" text_align="left" background_image
 _as_pattern="without_pattern"][vc_column width="1/2"][vc_column_text css="
 "]Día 18 Mayo: Mallos de Riglos y regreso a Madrid\n\n\nImpresionantes y 
 únicas son las panorámicas que muestran el conjunto formado por los mall
 os de Riglos y las casas del casco urbano\, visibles desde varios puntos d
 el territorio\, algunas presentan estampas tan bellas como la vista al ata
 rdecer desde Murillo\, o la más extensa desde el Mirador de los Buitres.\
 n\nParedes verticales que alcanzan los 300 metros de altura\, asentadas ju
 nto al pueblo y al curso del río Gállego estos conglomerados calizos se 
 formaron en el Terciario y fueron más tarde erosionados por el agua\, la 
 lluvia y el viento hasta formar las paredes actuales\, de color rojizo deb
 ido a la existencia de hierro y arcillas que resulta espectacular a la ca
 ída del sol. Formaciones como el Puro\, Mallo Pisón\, Mallo Visera y Mal
 lo Firé constituyen los mallos de Riglos.\n\nDesnivel en positivo: 350m\n
 Desnivel en negativo: 150m\nDistancia: 5 km\nDificultad: Media - Baja (c
 ondición física normal)\n\nDespues de Comer\, regreso a Madrid[/vc_colum
 n_text][/vc_column][vc_column width="1/2"][vc_single_image image="4670" im
 g_size="full" qode_css_animation=""][vc_empty_space height="22px"][/vc_col
 umn][/vc_row][vc_row css_animation="" row_type="row" use_row_as_full_scree
 n_section="no" type="full_width" angled_section="no" text_align="left" bac
 kground_image_as_pattern="without_pattern"][vc_column][vc_separator type="
 normal" color="#000000" up="20" down="20"][/vc_column][/vc_row][vc_row css
 _animation="" row_type="row" use_row_as_full_screen_section="no" type="ful
 l_width" angled_section="no" text_align="left" background_image_as_pattern
 ="without_pattern"][vc_column][vc_column_text css=""]Nos alojaremos en un
   HOTEL 4* en Binefar\, en el Hotel Ciudad de Binefar\n\nCómo verás\, u
 n viaje completo por las rutas más bonitas del pre-pirineo\n\nPrecio: 435
  € (socios 425 €) Reserva con 50€ y el resto antes del 20 de Abril\n
 \nHora de Salida día 15 Mayo: 08.30h.\nHora de llegada día 18 Mayo: 20
 .30h.aprox.\n\nIncluye: Autocar\, rutas\, Alojamiento con M.P. en hab. dob
 le (3 cenas buffet (bebidas no incl) y 3 desayunos) en HOTEL 4*\, Guía de
  Montaña y monitores\, Seguro RC.\n\nNo Incluye: Lo no especificado en i
 ncluye\n\nREQUISITOS\nTener entre 30 y 55 años aprox. Botas de trekking\,
  1\,5 litros de agua\, chubasquero y muchas ganas de divertirte.\n\nSalida
 : Churrería PATUCHURRO. C/ Ariel\, 4 (frente estación Sur de Autobuses)[
 /vc_column_text][/vc_column][/vc_row][vc_row css_animation="" row_type="ro
 w" use_row_as_full_screen_section="no" type="full_width" angled_section="n
 o" text_align="left" background_image_as_pattern="without_pattern"][vc_col
 umn][vc_separator type="normal" color="#000000" up="20" down="20"][vc_colu
 mn_text css=""]Si en las 24h siguientes a la inscripción no te ha llegado
  el correo de confirmación\, mira en la bandeja de spam (correo no desead
 o) o ponte en contacto en el telf.: 600 24 20 72\n\nTambién puedes reserv
 ar enviando un mail con tus datos y número de reservas a info@activatese
 nderismo.es\n\nSi necesitas un seguro de cancelación o de viajes\, solic
 ítanoslo\n\nAl asistir a la excursión se aceptan las condiciones genera
 les[/vc_column_text][vc_separator type="normal" color="#000000" up="20" do
 wn="20"][/vc_column][/vc_row][vc_row css_animation="" row_type="row" use_r
 ow_as_full_screen_section="no" type="full_width" angled_section="no" text_
 align="left" background_image_as_pattern="without_pattern"][vc_column widt
 h="3/4"][vc_column_text css=""]\nCompleto\n \n[/vc_column_text][/vc_colum
 n][/vc_row][vc_row css_animation="" row_type="row" use_row_as_full_screen_
 section="no" type="full_width" angled_section="no" text_align="left" backg
 round_image_as_pattern="without_pattern"][vc_column][vc_empty_space height
 ="22px"][/vc_column][/vc_row]
LOCATION:Churreria Patuchurro - Calle Ariel\, 4 (frente estación Sur de Me
 ndez Alvaro)\, C/Ariel\, 4\, Madrid\, Madrid\, España
X-APPLE-STRUCTURED-LOCATION;VALUE=URI;X-ADDRESS=C/Ariel\, 4\, Madrid\, Madr
 id\, España;X-APPLE-RADIUS=100;X-TITLE=Churreria Patuchurro - Calle Ariel
 \, 4 (frente estación Sur de Mendez Alvaro):geo:0,0
END:VEVENT
END:VCALENDAR