BEGIN:VCALENDAR
VERSION:2.0
PRODID:-//wp-events-plugin.com//7.2.3.1//EN
BEGIN:VEVENT
UID:35@activatesenderismo.es
DTSTART:20251122T090000Z
DTEND:20251122T193000Z
DTSTAMP:20251119T211849Z
URL:https://activatesenderismo.es/events/cascada-de-los-litueros-y-dehesa-
 bonita/
SUMMARY:Cascada de los litueros y dehesa bonita 22 Nov. Sábado
DESCRIPTION:[vc_row css_animation="" row_type="row" use_row_as_full_screen_
 section="no" type="full_width" angled_section="no" text_align="left" backg
 round_image_as_pattern="without_pattern"][vc_column][vc_separator type="no
 rmal" color="#000000" up="20" down="20"][/vc_column][/vc_row][vc_row css_a
 nimation="" row_type="row" use_row_as_full_screen_section="no" type="full_
 width" angled_section="no" text_align="left" background_image_as_pattern="
 without_pattern" z_index="" background_color="#ededed"][vc_column][vc_tabs
  style="horizontal"][vc_tab title="Precio" tab_id="de2c7a30-5835-4"][vc_co
 lumn_text css=""]Precio: (26€ – 24€ socios)[/vc_column_text][/vc_tab
 ][vc_tab title="Horario" tab_id="8433a977-5a0e-9"][vc_column_text]Hora de 
 Salida: 09.00h. (Punto de salida: Calle Ariel\, 4 Churrería Patuchurro)\n
 \n&nbsp\;\n\nHora de llegada: 19.30h aprox. (Puntos de Llegada: Calle Arie
 l\, 4 (Churrería Patuchurro)\n[/vc_column_text][/vc_tab][vc_tab title="In
 cluye" tab_id="1592411685044-2-2"][vc_column_text]Incluye: Autocar privado
 \, ruta\, monitores\, y Seguro RC.\n\nNo incluye: la comida\, comeremos en
  ruta. (traer bocata y bebida)[/vc_column_text][/vc_tab][vc_tab title="Req
 uisitos" tab_id="1592411747704-3-8"][vc_column_text]REQUISITOS\nTener entr
 e 30 y 55 años aprox.  Botas ó zapatillas de trekking\, 1/1\,5 litros 
 de agua\, chubasquero y muchas ganas de divertirte.\n\nNota: El programa e
 stá sujeto a cambios por tipos meteorológicos o logísticos\, o por cons
 ideración del guía\n\nNos adaptaremos a las medidas anti Covid vigentes.
 [/vc_column_text][/vc_tab][/vc_tabs][vc_empty_space height="22px"][/vc_col
 umn][/vc_row][vc_row css_animation="" row_type="row" use_row_as_full_scree
 n_section="no" type="full_width" angled_section="no" text_align="left" bac
 kground_image_as_pattern="without_pattern"][vc_column][vc_separator type="
 normal" color="#000000" up="20" down="20"][/vc_column][/vc_row][vc_row css
 _animation="" row_type="row" use_row_as_full_screen_section="no" type="ful
 l_width" angled_section="no" text_align="left" background_image_as_pattern
 ="without_pattern"][vc_column][vc_column_text]\nPrograma\n[/vc_column_text
 ][/vc_column][/vc_row][vc_row css_animation="" row_type="row" use_row_as_f
 ull_screen_section="no" type="full_width" angled_section="no" text_align="
 left" background_image_as_pattern="without_pattern"][vc_column][vc_separat
 or type="normal" color="#000000" up="20" down="20"][/vc_column][/vc_row][v
 c_row css_animation="" row_type="row" use_row_as_full_screen_section="no" 
 type="full_width" angled_section="no" text_align="left" background_image_a
 s_pattern="without_pattern"][vc_column width="1/2"][vc_column_text css=""]
 La cascada de los Litueros es un salto de agua situado en el municipio
  de Somosierra (Sierra Norte de Madrid).\n\nEl agua procede de manantial
 es de la cumbre del peña Cebollera y crea el Arroyo del Caño\, que cae
  formando una cola de caballo por los tres escalones pétreos de la Chorre
 ra. Instantes después de su descenso\, el arroyo se une al de Las Pedriza
 s\, en lo que se convertirá en el nacimiento del río Duratón\, afluent
 e del río Duero en Castilla y León. Se trata por lo tanto de uno de l
 os pocos cursos de agua de la Comunidad de Madrid que no vierte sus aguas 
 al río Tajo.\n\nSe trata de una de las cascadas con más caudal y altura
  de la Comunidad de Madrid\, con 40 metros\, situada entre impresionantes 
 rocas graníticas.\n\nLa cascada se encuentra muy próxima al bosque de D
 ehesa Bonita.\n\nRECORRIDO: 11 Km. Aprox.\n\nNIVEL: Medio-bajo (Condició
 n física normal) (el senderismo es una actividad deportiva\, requiere esf
 uerzo físico y ropa/calzado técnico adecuado\, y seguir una dinámica de
 l grupo)\n\nDESNIVEL: +300 m -300M (recomendable bastón de senderismo)\n\
 n&nbsp\;\n\n[/vc_column_text][/vc_column][vc_column width="1/2"][vc_single
 _image image="4801" img_size="full" qode_css_animation=""][vc_separator ty
 pe="normal" color="#81d742" up="10" down="10"][vc_single_image image="4800
 " img_size="full" qode_css_animation=""][/vc_column][/vc_row][vc_row css_a
 nimation="" row_type="row" use_row_as_full_screen_section="no" type="full_
 width" angled_section="no" text_align="left" background_image_as_pattern="
 without_pattern"][vc_column][vc_column_text css=""]Incluye: Autocar priva
 do\, ruta\, Guía de Montaña\, monitores y Seguro RC.\nNo incluye: La com
 ida\, comeremos en ruta. (traer comida y bebida)\n\nPrecio: 26 €\nPrecio
  Socios: 24 €\n\nHora de Salida: 09.00h.\nHora de llegada: 19.30h. apro
 x.\n\nSalida: CHURRERIA PATUCHURRO C/Ariel\, 4 (frente estación Sur de Au
 tobuses de Mendez Alvaro)\n\nREQUISITOS\nTener entre 30 y 55 años aprox.
   Botas ó zapatillas de trekking\, 1/1\,5 litros de agua\, chubasquero 
 y muchas ganas de divertirte.\n\nNota: El programa está sujeto a cambios 
 por tipos meteorológicos o logísticos\, o por consideración del guía[/
 vc_column_text][vc_separator type="normal" color="#000000" up="20" down="2
 0"][vc_column_text]Si en las 24h siguientes a la inscripción no te ha lle
 gado el correo de confirmación\, mira en la bandeja de spam (correo no de
 seado) o ponte en contacto en el telf.\; 600 24 20 72\n\nTambién puedes r
 eservar enviando un mail con tus datos y número de reservas a info@activ
 atesenderismo.es\n\nAl asistir a la excursión se aceptan las condiciones 
 generales[/vc_column_text][/vc_column][/vc_row][vc_row css_animation="" ro
 w_type="row" use_row_as_full_screen_section="no" type="full_width" angled_
 section="no" text_align="left" background_image_as_pattern="without_patter
 n"][vc_column][vc_separator type="normal" color="#000000" up="20" down="20
 "][/vc_column][/vc_row][vc_row css_animation="" row_type="row" use_row_as_
 full_screen_section="no" type="full_width" angled_section="no" text_align=
 "left" background_image_as_pattern="without_pattern"][vc_column width="1/4
 "][/vc_column][vc_column width="3/4"][/vc_column][/vc_row][vc_row css_anim
 ation="" row_type="row" use_row_as_full_screen_section="no" type="full_wid
 th" angled_section="no" text_align="left" background_image_as_pattern="wit
 hout_pattern"][vc_column][vc_empty_space height="22px"][/vc_column][/vc_ro
 w]
LOCATION:Churreria Patuchurro - Calle Ariel\, 4 (frente estación Sur de Me
 ndez Alvaro)\, C/Ariel\, 4\, Madrid\, Madrid\, España
X-APPLE-STRUCTURED-LOCATION;VALUE=URI;X-ADDRESS=C/Ariel\, 4\, Madrid\, Madr
 id\, España;X-APPLE-RADIUS=100;X-TITLE=Churreria Patuchurro - Calle Ariel
 \, 4 (frente estación Sur de Mendez Alvaro):geo:0,0
END:VEVENT
END:VCALENDAR