BEGIN:VCALENDAR
VERSION:2.0
PRODID:-//wp-events-plugin.com//7.2.3.1//EN
BEGIN:VEVENT
UID:26@activatesenderismo.es
DTSTART:20211009T080000Z
DTEND:20211012T203000Z
DTSTAMP:20211004T092431Z
URL:https://activatesenderismo.es/events/caminito-del-rey-9-12-oct/
SUMMARY:Caminito del Rey - Malaga. **9-12 OCTUBRE** (4 días)
DESCRIPTION:[vc_row css_animation="" row_type="row" use_row_as_full_screen_
 section="no" type="full_width" angled_section="no" text_align="left" backg
 round_image_as_pattern="without_pattern"][vc_column][vc_separator type="no
 rmal" color="#000000" up="20" down="20"][/vc_column][/vc_row][vc_row css_a
 nimation="" row_type="row" use_row_as_full_screen_section="no" type="full_
 width" angled_section="no" text_align="left" background_image_as_pattern="
 without_pattern" z_index="" background_color="#ededed"][vc_column][vc_tabs
  style="horizontal"][vc_tab title="Precio" tab_id="de2c7a30-5835-4"][vc_co
 lumn_text]Precio: (355€ – 345€ socios)\nSuplemento habitación indiv
 idual: 90€\n\nAprovecha y hazte socio!! Cuota de socio anual: 20€ vál
 ida 12 meses desde el mes de inscripción. (No hace falta ser socio para v
 enir a las excursiones\, solamemente es un descuento si vas a asistir much
 o)[/vc_column_text][/vc_tab][vc_tab title="Horario" tab_id="8433a977-5a0e-
 9"][vc_column_text]Hora de Salida día 9: 08.00h.\nHora de llegada día 12
 : 21.00h. aprox.[/vc_column_text][/vc_tab][vc_tab title="Incluye" tab_id="
 1592411685044-2-2"][vc_column_text]Incluye: Autocar\, rutas\, Alojamiento 
 con M.P. en hab. doble (3 cenas y 3 desayunos) en HOTEL 4*\, Guía de Mont
 aña y monitores\, Seguro RC.\n\nNo incluye: Entrada al caminito del Rey 2
 0€  (dos guías + S. de accidentes de turismo activo + una bebida).\n\n
 ***ENTRADAS RESERVADAS***[/vc_column_text][/vc_tab][vc_tab title="Requisit
 os" tab_id="1592411747704-3-8"][vc_column_text]REQUISITOS\nTener entre 30 
 y 55 años aprox. Botas de trekking\, 1/1\,5 litros de agua\, chubasquero 
 y muchas ganas de divertirte.\n\nEl grupo se confirmará con un minimo de 
 25 pax.[/vc_column_text][/vc_tab][/vc_tabs][vc_empty_space height="22px"][
 /vc_column][/vc_row][vc_row css_animation="" row_type="row" use_row_as_ful
 l_screen_section="no" type="full_width" angled_section="no" text_align="le
 ft" background_image_as_pattern="without_pattern"][vc_column][vc_separator
  type="normal" color="#000000" up="20" down="20"][/vc_column][/vc_row][vc_
 row css_animation="" row_type="row" use_row_as_full_screen_section="no" ty
 pe="full_width" angled_section="no" text_align="left" background_image_as_
 pattern="without_pattern"][vc_column][vc_column_text]\nPrograma\n[/vc_colu
 mn_text][/vc_column][/vc_row][vc_row css_animation="" row_type="row" use_r
 ow_as_full_screen_section="no" type="full_width" angled_section="no" text_
 align="left" background_image_as_pattern="without_pattern"][vc_column][vc_
 separator type="normal" color="#000000" up="20" down="20"][/vc_column][/vc
 _row][vc_row css_animation="" row_type="row" use_row_as_full_screen_sectio
 n="no" type="full_width" angled_section="no" text_align="left" background_
 image_as_pattern="without_pattern"][vc_column width="1/2"][vc_column_text]
 DIA 9 OCT.: Tajos de Alhama\n08.00 Salida hacia Málaga.\nEl Monumento Nat
 ural Tajos de Alhama se encuentra junto a la ciudad monumental del mismo
  nombre\, muy reconocida por la bondad de sus aguas termales\, en el Pon
 iente Granadino. Alhama está situada en un enclave geográfico privileg
 iado\, caracterizado por la riqueza medioambiental del Parque Natural Sie
 rras de Tejeda\, Almijara y Alhama\, cuyas cumbres hacen frontera natural
  entre las provincias de Málaga y Granada. Desde donde su pico más al
 to\, La Maroma (2.065 mts) ofrece espectaculares vistas de la costa medi
 terránea e incluso las costas de África  en días claros y despejados.\
 n\n&nbsp\;\n\nEste monumento natural esta formado por un  conjunto de ca
 ñones y tajos de areniscas\, que deben su actual estado a la erosión del
  río Alhama y a los desprendimientos de rocas ocurridos en varios terre
 motos.  Están catalogados como Paisaje Sobresaliente en el Catálogo 
 General del Patrimonio Histórico Andaluz. Los Tajos los  podemos disfr
 utar enormemente pues reúne dos características complementarias  muy im
 portantes\; una natural y otra etnográfica.[/vc_column_text][/vc_column][
 vc_column width="1/2"][vc_single_image image="2344" img_size="full" qode_c
 ss_animation=""][/vc_column][/vc_row][vc_row css_animation="" row_type="ro
 w" use_row_as_full_screen_section="no" type="full_width" angled_section="n
 o" text_align="left" background_image_as_pattern="without_pattern"][vc_col
 umn][vc_separator type="normal" color="#000000" up="20" down="20"][/vc_col
 umn][/vc_row][vc_row css_animation="" row_type="row" use_row_as_full_scree
 n_section="no" type="full_width" angled_section="no" text_align="left" bac
 kground_image_as_pattern="without_pattern"][vc_column width="1/2"][vc_colu
 mn_text]\nDía 10 Octubre: Caminito del Rey\nEl Caminito del Rey es sin du
 da uno de los lugares más espectaculares deMálaga. Un espacio natural si
 tuado en la comarca del Guadalhorce que toma su nombre de una visita que e
 n 1921 realizó el entonces monarca del país\, Alfonso XIII. Destino obli
 gado para los amantes de la escalada y el senderismo en general.\n\n&nbsp\
 ;\n\nEl característico sendero tuvo su origen a principios del pasado sig
 lo ante la necesidad de la Sociedad Hidroeléctrica del Chorro de abrir un
  paso para que los operarios que trabajaban en labores de mantenimiento y 
 transporte de materiales\, por lo que se decidió su construcción\, que t
 ranscurrió entre 1901 y 1905. No obstante\, no fue hasta 1921\, cuando el
  Rey Alfonso XIII lo recorrió para inaugurar la presa del Conde del Guada
 lhorce\, cuando comenzó a ser conocido con el sobrenombre de Caminito del
  Rey.\n\n&nbsp\;\nDesnivel en positivo: 50m\nDesnivel en negativo: 50m\nDi
 stancia: 8 km\nDificultad: Baja (condición física normal)\n[/vc_column
 _text][/vc_column][vc_column width="1/2"][vc_single_image image="4645" img
 _size="full" qode_css_animation=""][vc_empty_space height="22px"][vc_singl
 e_image image="2346" img_size="full" qode_css_animation=""][/vc_column][/v
 c_row][vc_row css_animation="" row_type="row" use_row_as_full_screen_secti
 on="no" type="full_width" angled_section="no" text_align="left" background
 _image_as_pattern="without_pattern"][vc_column][vc_separator type="normal"
  color="#000000" up="20" down="20"][/vc_column][/vc_row][vc_row css_animat
 ion="" row_type="row" use_row_as_full_screen_section="no" type="full_width
 " angled_section="no" text_align="left" background_image_as_pattern="witho
 ut_pattern"][vc_column width="1/2"][vc_column_text]\nDía 11 Octubre: Torc
 al de Antequera\nEl Paraje Natural Torcal de Antequera encierra una de las
  muestras más impresionantes de paisaje kárstico de toda Europa y\, debe
  su nombre\, a las dolinas o torcas\, unas curiosas formaciones en forma d
 e depresiones circulares.\nEn El Torcal predominan las calizas\, rocas con
  más de 150 millones de años\, formadas por sedimentos marinos muy sensi
 bles a la erosión. La acción lenta pero continuada de la lluvia\, la nie
 ve y el viento sobre este material han moldeado este característico paisa
 je.\n\n&nbsp\;\nRuta de 4 km (3 horas aprox.) con un Guía Geólogo (incl.
 .) que nos explicara la ruta de los Amonites en el Torcal\n• Sobre 14:30
  Comeremos por libre en Antequera\n• Sobre 17:30 saldremos hacia mijas p
 ara visitar el pueblo\n• Sobre 21:00h cena.\n[/vc_column_text][/vc_colum
 n][vc_column width="1/2"][vc_single_image image="2352" img_size="full" qod
 e_css_animation=""][vc_empty_space height="22px"][vc_single_image image="2
 351" img_size="full" qode_css_animation=""][/vc_column][/vc_row][vc_row cs
 s_animation="" row_type="row" use_row_as_full_screen_section="no" type="fu
 ll_width" angled_section="no" text_align="left" background_image_as_patter
 n="without_pattern"][vc_column][vc_separator type="normal" color="#000000"
  up="20" down="20"][/vc_column][/vc_row][vc_row css_animation="" row_type=
 "row" use_row_as_full_screen_section="no" type="full_width" angled_section
 ="no" text_align="left" background_image_as_pattern="without_pattern"][vc_
 column width="1/2"][vc_column_text]\nDía 12 Octubre: Montefrío y regreso
  a Madrid\nLa prestigiosa revista “National Geographic” incluyó en oc
 tubre del año pasado a Montefrío (Granada) en la lista de los diez puebl
 os del mundo con mejores vistas\, iremos de tapas y nos volvemos para Madr
 id.\n&nbsp\;\nAl medio día aprox. Regreso a Madrid.\n[/vc_column_text][/v
 c_column][vc_column width="1/2"][vc_single_image image="2354" img_size="fu
 ll" qode_css_animation=""][vc_empty_space height="22px"][/vc_column][/vc_r
 ow][vc_row css_animation="" row_type="row" use_row_as_full_screen_section=
 "no" type="full_width" angled_section="no" text_align="left" background_im
 age_as_pattern="without_pattern"][vc_column][vc_separator type="normal" co
 lor="#000000" up="20" down="20"][/vc_column][/vc_row][vc_row css_animation
 ="" row_type="row" use_row_as_full_screen_section="no" type="full_width" a
 ngled_section="no" text_align="left" background_image_as_pattern="without_
 pattern"][vc_column][vc_column_text]Nos alojaremos en un HOTEL 4*\, en el 
 Hotel TRH Mijas.\n\n  \n\n \n\nPrecio: 355 € (socios 345€) (señal 
 50€ de reserva de plaza y el resto del pago antes del 25 sep)\n\n&nbsp\;
 \n\nHora de Salida día 9: 08.00h.\nHora de llegada día 12: 20.30h.apro
 x.\n\n&nbsp\;\n\nIncluye: Autocar\, rutas\, Alojamiento con M.P. en hab. d
 oble (3 cenas y 3 desayunos) en HOTEL 4* TRH MIJAS\, Guía de Montaña y m
 onitores\, Seguro RC.\n\nNo incluye: Entrada al caminito del Rey 20€  (
 dos guías + S. de accidentes de turismo activo + una bebida).***ENTRADAS 
 RESERVADAS***\nLo no especificado en incluye.\n\n&nbsp\;\n\n 	 Consultano
 s para seguros de cancelación y accidentes\n\n&nbsp\;\n\nNota: El program
 a está sujeto a cambios por tipos meteorológicos o logísticos\, o por c
 onsideración del guía\n\n&nbsp\;\n\nSalida: CHURRERIA PATUCHURRO C/Ariel
 \, 4 (frente estación Sur de Autobuses de Mendez Alvaro)[/vc_column_text]
 [/vc_column][/vc_row][vc_row css_animation="" row_type="row" use_row_as_fu
 ll_screen_section="no" type="full_width" angled_section="no" text_align="l
 eft" background_image_as_pattern="without_pattern"][vc_column][vc_separato
 r type="normal" color="#000000" up="20" down="20"][vc_column_text]Si en la
 s 24h siguientes a la inscripción no te ha llegado el correo de confirmac
 ión\, mira en la bandeja de spam (correo no deseado) o ponte en contacto 
 en el telf.: 600 24 20 72\n\n&nbsp\;\n\nTambién puedes reservar enviando
  un mail con tus datos y número de reservas a info@activatesenderismo.es\
 n\n&nbsp\;\n\nSi necesitas un seguro de cancelación o de viajes\, solicí
 tanoslo\n\n&nbsp\;\n\nAl asistir a la excursión se aceptan las condicion
 es generales[/vc_column_text][vc_separator type="normal" color="#000000" u
 p="20" down="20"][/vc_column][/vc_row][vc_row css_animation="" row_type="r
 ow" use_row_as_full_screen_section="no" type="full_width" angled_section="
 no" text_align="left" background_image_as_pattern="without_pattern"][vc_co
 lumn width="1/4"][/vc_column][/vc_row][vc_row css_animation="" row_type="r
 ow" use_row_as_full_screen_section="no" type="full_width" angled_section="
 no" text_align="left" background_image_as_pattern="without_pattern"][vc_co
 lumn][vc_empty_space height="22px"][/vc_column][/vc_row]
ATTACH;FMTTYPE=image/jpeg:https://activatesenderismo.es/wp-content/uploads
 /2021/08/caminito_cartel.jpg
CATEGORIES:Octubre,Viajes
LOCATION:Churreria Patuchurro - Calle Ariel\, 4 (frente estación Sur de Me
 ndez Alvaro)\, C/Ariel\, 4\, Madrid\, Madrid\, España
X-APPLE-STRUCTURED-LOCATION;VALUE=URI;X-ADDRESS=C/Ariel\, 4\, Madrid\, Madr
 id\, España;X-APPLE-RADIUS=100;X-TITLE=Churreria Patuchurro - Calle Ariel
 \, 4 (frente estación Sur de Mendez Alvaro):geo:0,0
END:VEVENT
END:VCALENDAR