BEGIN:VCALENDAR
VERSION:2.0
PRODID:-//wp-events-plugin.com//7.2.3.1//EN
BEGIN:VEVENT
UID:98@activatesenderismo.es
DTSTART:20251206T081500Z
DTEND:20251208T203000Z
DTSTAMP:20251203T102039Z
URL:https://activatesenderismo.es/events/calblanque-p-n-sierra-espuna-y-ca
 bo-tinoso-murcia-6-8-dic-puente/
SUMMARY:Calblanque\, P.N. Sierra Espuña y Calnegre. Murcia **6-8 Dic. PUEN
 TE**
DESCRIPTION:[vc_row css_animation="" row_type="row" use_row_as_full_screen_
 section="no" type="full_width" angled_section="no" text_align="left" backg
 round_image_as_pattern="without_pattern"][vc_column][vc_separator type="no
 rmal" color="#000000" up="20" down="20"][/vc_column][/vc_row][vc_row css_a
 nimation="" row_type="row" use_row_as_full_screen_section="no" type="full_
 width" angled_section="no" text_align="left" background_image_as_pattern="
 without_pattern" z_index="" background_color="#ededed"][vc_column][vc_tabs
  style="horizontal"][vc_tab title="Precio" tab_id="de2c7a30-5835-4"][vc_co
 lumn_text css=""]Precio: 295€ – 285€ socios. (reserva con 50€ y re
 sto antes del 20 Nov.)\nSuplemento habitación individual: (100€ supleme
 nto individual)\n\nAprovecha y hazte socio!! Cuota de socio anual: 20€ v
 álida 12 meses desde el mes de inscripción.[/vc_column_text][/vc_tab][vc
 _tab title="Horario" tab_id="8433a977-5a0e-9"][vc_column_text css=""]Hora 
 de Salida día 6 Dic.: 08.15h.\nHora de llegada día 8 Dic.: 20.30h. aprox
 .[/vc_column_text][/vc_tab][vc_tab title="Incluye" tab_id="1592411685044-2
 -2"][vc_column_text css=""]Incluye: Autocar privado\, rutas\, Alojamiento 
 con M.P. en hab. doble (2 cenas\, y 2 desayunos) en HOTEL 4****\, Guía de
  Montaña y monitores\, Seguro RC.\n\nNo incluye: lo no especificado en in
 cluye.[/vc_column_text][/vc_tab][vc_tab title="Requisitos" tab_id="1592411
 747704-3-8"][vc_column_text]REQUISITOS\nTener entre 30 y 55 años aprox. B
 otas/zapatillas de trekking\, 1/1\,5 litros de agua\, chubasquero y muchas
  ganas de divertirte.\n\nEl grupo se confirmará con un minimo de 20 pax.[
 /vc_column_text][/vc_tab][/vc_tabs][vc_empty_space height="22px"][/vc_colu
 mn][/vc_row][vc_row css_animation="" row_type="row" use_row_as_full_screen
 _section="no" type="full_width" angled_section="no" text_align="left" back
 ground_image_as_pattern="without_pattern"][vc_column][vc_separator type="n
 ormal" color="#000000" up="20" down="20"][/vc_column][/vc_row][vc_row css_
 animation="" row_type="row" use_row_as_full_screen_section="no" type="full
 _width" angled_section="no" text_align="left" background_image_as_pattern=
 "without_pattern"][vc_column][vc_column_text]\nPrograma\n[/vc_column_text]
 [/vc_column][/vc_row][vc_row css_animation="" row_type="row" use_row_as_fu
 ll_screen_section="no" type="full_width" angled_section="no" text_align="l
 eft" background_image_as_pattern="without_pattern"][vc_column][vc_separato
 r type="normal" color="#000000" up="20" down="20"][/vc_column][/vc_row][vc
 _row css_animation="" row_type="row" use_row_as_full_screen_section="no" t
 ype="full_width" angled_section="no" text_align="left" background_image_as
 _pattern="without_pattern"][vc_column width="1/2"][vc_column_text css=""]D
 ia 6 Dic. Salida a las 8:15 hacia P.N. Sierra de Espuña\n\nRuta: CAMINO D
 EL BERRO – CASA LEIVA Y BARRANCO DE LAS BRUJAS – PN SIERRA DE LA ESPU
 ÑA\n\nCamina por la mágica  SIERRA DE ESPUÑA \, entre pinares fragante
 s\, antiguos canales y rincones llenos de historia.\n\nDisfruta de vistas 
 panorámicas\, sombra fresca y la fauna autóctona mientras avanzas por se
 nderos tranquilos.\n\nUna ruta ideal para conectar con la naturaleza y com
 partir momentos únicos en grupo.\n\nRECORRIDO: 9 Km. Aprox.\nDIFICULTAD:
  Media – Baja –(condición física normal)\nDESNIVEL: 270 -270 m\n\nP
 or la tarde\, nos desplazaremos a Murcia Capital\, para alojarnos en nuest
 ro super hotel 4****.\n\nDespués\, alojamiento y cena (incl. MP) en nuest
 ro hotel.[/vc_column_text][/vc_column][vc_column width="1/2"][vc_single_im
 age image="8583" img_size="full" css="" qode_css_animation=""][vc_empty_sp
 ace][/vc_column][/vc_row][vc_row css_animation="" row_type="row" use_row_a
 s_full_screen_section="no" type="full_width" angled_section="no" text_alig
 n="left" background_image_as_pattern="without_pattern"][vc_column][vc_sepa
 rator type="normal" color="#000000" up="20" down="20"][/vc_column][/vc_row
 ][vc_row css_animation="" row_type="row" use_row_as_full_screen_section="n
 o" type="full_width" angled_section="no" text_align="left" background_imag
 e_as_pattern="without_pattern"][vc_column width="1/2"][vc_column_text css=
 ""]\nDía 7 Dic.: Parque Natural de Calblanque\n\nÚnete a nosotros para d
 escubrir los paisajes vírgenes del Parque Regional de Calblanque\, Monte 
 de las Cenizas y Peña del Águila. Caminaremos por senderos junto a dunas
 \, playas salvajes y acantilados impresionantes\, disfrutando de la flora 
 y fauna autóctona y de vistas panorámicas sobre el mar Mediterráneo. Es
  una ruta ideal para todos los niveles\, con paradas para descansar\, foto
 grafiar y aprender sobre este entorno natural protegido.\n\nComeremos en r
 uta de lo que compremos el día anterior\n\nRECORRIDO: 13 Km. Aprox.\nDIFI
 CULTAD: Media – Baja –(condición física normal)\nDESNIVEL: 250 -250
  m\n\nPor la tarde/noche\, alojamiento y cena (incl. MP) en nuestro hotel 
 de Murcia Capital.[/vc_column_text][/vc_column][vc_column width="1/2"][vc_
 single_image image="8589" img_size="full" css="" qode_css_animation=""][vc
 _empty_space height="22px"][vc_single_image image="8590" img_size="full" c
 ss="" qode_css_animation=""][/vc_column][/vc_row][vc_row css_animation="" 
 row_type="row" use_row_as_full_screen_section="no" type="full_width" angle
 d_section="no" text_align="left" background_image_as_pattern="without_patt
 ern"][vc_column][vc_separator type="normal" color="#000000" up="20" down="
 20"][/vc_column][/vc_row][vc_row css_animation="" row_type="row" use_row_a
 s_full_screen_section="no" type="full_width" angled_section="no" text_alig
 n="left" background_image_as_pattern="without_pattern"][vc_column width="1
 /2"][vc_column_text css=""]\nDía 8. Dic.: Parque Natural de Calnegre\nEl 
 Parque Regional de Calnegre y Cabo Cope ocupa una porción de las sierras 
 costeras de la parte oriental de nuestro litoral. Una amalgama de material
 es y estructuras geológicas confluyen aquí. Calizas en Cabo Cope y tilit
 as en Calnegre\, así coo dunas fósiles\, playas y acantilados son alguno
 s de sus elementos físicos más interesantes.\n\n&nbsp\;\n\nA medio día\
 , comeremos por libre\n\nRECORRIDO: 9 Km. Aprox.\nDIFICULTAD: Media – B
 aja –(condición física normal)\nDESNIVEL: 200 -200 m\n\nDespues de com
 er\, regreso a Madrid[/vc_column_text][/vc_column][vc_column width="1/2"][
 vc_single_image image="8606" img_size="full" css="" qode_css_animation=""]
 [vc_empty_space][vc_single_image image="8607" img_size="full" css="" qode_
 css_animation=""][/vc_column][/vc_row][vc_row css_animation="" row_type="r
 ow" use_row_as_full_screen_section="no" type="full_width" angled_section="
 no" text_align="left" background_image_as_pattern="without_pattern"][vc_co
 lumn][vc_separator type="normal" color="#000000" up="20" down="20"][/vc_co
 lumn][/vc_row][vc_row css_animation="" row_type="row" use_row_as_full_scre
 en_section="no" type="full_width" angled_section="no" text_align="left" ba
 ckground_image_as_pattern="without_pattern"][vc_column][vc_column_text css
 =""]\nCómo verás\, un viaje completo por los parques naturales mas signi
 ficativos de Murcia.\nNos alojaremos en un HOTEL 4****\, en Murcia.\n\nPre
 cio: 295€ – 285€ socios. (reserva con 50€ y resto antes del 20 Nov
 .) (Suplemento individual 100€)\n\n\nHora de Salida día 6 Dic.: 08.15h.
 \nHora de llegada día 8 Dic.: 20.30h. aprox.\n\nIncluye: Autocar privado\
 , rutas\, Alojamiento con M.P. en hab. doble (2 cenas\, y 2 desayunos) en 
 HOTEL 4****\, Guía de Montaña y monitores\, Seguro RC.\n\nNo incluye: lo
  no especificado en incluye.\n\nSalida: CHURRERIA PATUCHURRO C/Ariel\, 4 (
 frente estación Sur de Autobuses de Mendez Alvaro)[/vc_column_text][/vc_c
 olumn][/vc_row][vc_row css_animation="" row_type="row" use_row_as_full_scr
 een_section="no" type="full_width" angled_section="no" text_align="left" b
 ackground_image_as_pattern="without_pattern"][vc_column][vc_separator type
 ="normal" color="#000000" up="20" down="20"][vc_column_text]Si en las 24h 
 siguientes a la inscripción no te ha llegado el correo de confirmación\,
  mira en la bandeja de spam (correo no deseado) o ponte en contacto en el 
 telf.: 600 24 20 72\n\nTambién puedes reservar enviando un mail con tus 
 datos y número de reservas a info@activatesenderismo.es\n\nSi necesitas u
 n seguro de cancelación o de viajes\, solicitanóslo\n\nAl asistir a la e
 xcursión se aceptan las condiciones generales[/vc_column_text][vc_separa
 tor type="normal" color="#000000" up="20" down="20"][/vc_column][/vc_row][
 vc_row css_animation="" row_type="row" use_row_as_full_screen_section="no"
  type="full_width" angled_section="no" text_align="left" background_image_
 as_pattern="without_pattern"][vc_column width="1/4"][/vc_column][vc_column
  width="3/4"][/vc_column][/vc_row][vc_row css_animation="" row_type="row" 
 use_row_as_full_screen_section="no" type="full_width" angled_section="no" 
 text_align="left" background_image_as_pattern="without_pattern"][vc_column
 ][vc_empty_space height="22px"][/vc_column][/vc_row]
LOCATION:Churreria Patuchurro - Calle Ariel\, 4 (frente estación Sur de Me
 ndez Alvaro)\, C/Ariel\, 4\, Madrid\, Madrid\, España
X-APPLE-STRUCTURED-LOCATION;VALUE=URI;X-ADDRESS=C/Ariel\, 4\, Madrid\, Madr
 id\, España;X-APPLE-RADIUS=100;X-TITLE=Churreria Patuchurro - Calle Ariel
 \, 4 (frente estación Sur de Mendez Alvaro):geo:0,0
END:VEVENT
END:VCALENDAR