BEGIN:VCALENDAR
VERSION:2.0
PRODID:-//wp-events-plugin.com//7.2.3.1//EN
BEGIN:VEVENT
UID:74@activatesenderismo.es
DTSTART:20251102T090000Z
DTEND:20251102T193000Z
DTSTAMP:20251024T120245Z
URL:https://activatesenderismo.es/events/bosques-de-la-iruela-perimetro-ha
 yedo-montejo/
SUMMARY:Bosques de la Hiruela (perímetro Hayedo Montejo) 2 Nov. Domingo
DESCRIPTION:[vc_row css_animation="" row_type="row" use_row_as_full_screen_
 section="no" type="full_width" angled_section="no" text_align="left" backg
 round_image_as_pattern="without_pattern"][vc_column][vc_separator type="no
 rmal" color="#000000" up="20" down="20"][/vc_column][/vc_row][vc_row css_a
 nimation="" row_type="row" use_row_as_full_screen_section="no" type="full_
 width" angled_section="no" text_align="left" background_image_as_pattern="
 without_pattern" z_index="" background_color="#ededed"][vc_column][vc_tabs
  style="horizontal"][vc_tab title="Precio" tab_id="de2c7a30-5835-4"][vc_co
 lumn_text]Precio: (26€ – 24€ socios)[/vc_column_text][/vc_tab][vc_ta
 b title="Horario" tab_id="8433a977-5a0e-9"][vc_column_text]Hora de Salida:
  09.00h. (Punto de salida: Calle Ariel\, 4 Churrería Patuchurro)\n\n&nbsp
 \;\n\nHora de llegada: 19.30h aprox. (Puntos de Llegada: Calle Ariel\, 4 (
 Churrería Patuchurro)\n[/vc_column_text][/vc_tab][vc_tab title="Incluye" 
 tab_id="1592411685044-2-2"][vc_column_text]Incluye: Autocar privado\, ruta
 \, monitores\, y Seguro RC.\n\nNo incluye: la comida\, comeremos en ruta. 
 (traer bocata y bebida)[/vc_column_text][/vc_tab][vc_tab title="Requisitos
 " tab_id="1592411747704-3-8"][vc_column_text]REQUISITOS\nTener entre 30 y 
 55 años aprox.  Botas ó zapatillas de trekking\, 1/1\,5 litros de agua
 \, chubasquero y muchas ganas de divertirte.\n\nNota: El programa está su
 jeto a cambios por tipos meteorológicos o logísticos\, o por consideraci
 ón del guía[/vc_column_text][/vc_tab][/vc_tabs][vc_empty_space height="2
 2px"][/vc_column][/vc_row][vc_row css_animation="" row_type="row" use_row_
 as_full_screen_section="no" type="full_width" angled_section="no" text_ali
 gn="left" background_image_as_pattern="without_pattern"][vc_column][vc_sep
 arator type="normal" color="#000000" up="20" down="20"][/vc_column][/vc_ro
 w][vc_row css_animation="" row_type="row" use_row_as_full_screen_section="
 no" type="full_width" angled_section="no" text_align="left" background_ima
 ge_as_pattern="without_pattern"][vc_column][vc_column_text]\nPrograma\n[/v
 c_column_text][/vc_column][/vc_row][vc_row css_animation="" row_type="row"
  use_row_as_full_screen_section="no" type="full_width" angled_section="no"
  text_align="left" background_image_as_pattern="without_pattern"][vc_colum
 n][vc_separator type="normal" color="#000000" up="20" down="20"][/vc_colum
 n][/vc_row][vc_row css_animation="" row_type="row" use_row_as_full_screen_
 section="no" type="full_width" angled_section="no" text_align="left" backg
 round_image_as_pattern="without_pattern"][vc_column width="1/2"][vc_column
 _text css=""]\nHayedos\, robledales\, castañares... se convierten en aut
 énticos bosques de cuento donde no importa perderse.\nEscondida entre las
  estribaciones de Somosierra y el macizo de Ayllón\, en el curso alto del
  río Jarama\, este singular espacio natural fue declarado Reserva de la B
 iosfera\, en 2005\, por la UNESCO por su riqueza y variedad paisajística\
 , por ser guardián de diferentes ecosistemas mediterráneos y por ser un
  modelo ejemplar de la conservación de su patrimonio natural y cultural b
 asado en el desarrollo sostenible.\nEl aislamiento que ha sufrido esta zon
 a durante siglos ha tenido su parte positiva\, y es que su naturaleza se h
 a mantenido casi salvaje hoy en día. Gracias a ello\, podemos pasear aho
 ra por sus montes\, bosques\, valles y arroyos\, con la sensación de habe
 r usado una máquina del tiempo para viajar al pasado.\ny antes de volver 
 a Madrid nos tomaremos un refrigerio en Buitrago de Lozoya\, uno de los pu
 eblos mas hermosos de Madrid\n\n*No entramos en el Hayedo de Montejo\, dad
 o que está restringido para grupos**\n\nRECORRIDO: 11 Km. Aprox.\n\nNIVEL
 : Medio-bajo (Condición física normal) (el senderismo es una actividad 
 deportiva\, requiere esfuerzo físico y ropa/calzado técnico adecuado\, y
  seguir una dinámica del grupo)\n\nDESNIVEL: +300 m -300M (recomendable b
 astón de senderismo)\n\n&nbsp\;\n\n[/vc_column_text][/vc_column][vc_colum
 n width="1/2"][vc_single_image image="6450" img_size="full" qode_css_anima
 tion=""][vc_separator type="normal" color="#81d742" up="10" down="10"][vc_
 single_image image="6451" img_size="full" qode_css_animation=""][/vc_colum
 n][/vc_row][vc_row css_animation="" row_type="row" use_row_as_full_screen_
 section="no" type="full_width" angled_section="no" text_align="left" backg
 round_image_as_pattern="without_pattern"][vc_column][vc_column_text]Incluy
 e: Autocar privado\, ruta\, Guía de Montaña\, monitores y Seguro RC.\nN
 o incluye: La comida\, comeremos en ruta. (traer comida y bebida)\n\nPreci
 o: 26 €\nPrecio Socios: 24 €\n\nHora de Salida: 09.00h.\nHora de lleg
 ada: 19.30h. aprox.\n\nSalida: CHURRERIA PATUCHURRO C/Ariel\, 4 (frente es
 tación Sur de Autobuses de Mendez Alvaro)\n\nREQUISITOS\nTener entre 30 y
  55 años aprox.  Botas ó zapatillas de trekking\, 1/1\,5 litros de agu
 a\, chubasquero y muchas ganas de divertirte.\n\nNota: El programa está s
 ujeto a cambios por tipos meteorológicos o logísticos\, o por considerac
 ión del guía[/vc_column_text][vc_separator type="normal" color="#000000"
  up="20" down="20"][vc_column_text]Si en las 24h siguientes a la inscripci
 ón no te ha llegado el correo de confirmación\, mira en la bandeja de sp
 am (correo no deseado) o ponte en contacto en el telf.\; 600 24 20 72\n\nT
 ambién puedes reservar enviando un mail con tus datos y número de reser
 vas a info@activatesenderismo.es\n\nAl asistir a la excursión se aceptan 
 las condiciones generales[/vc_column_text][/vc_column][/vc_row][vc_row css
 _animation="" row_type="row" use_row_as_full_screen_section="no" type="ful
 l_width" angled_section="no" text_align="left" background_image_as_pattern
 ="without_pattern"][vc_column][vc_separator type="normal" color="#000000" 
 up="20" down="20"][/vc_column][/vc_row][vc_row css_animation="" row_type="
 row" use_row_as_full_screen_section="no" type="full_width" angled_section=
 "no" text_align="left" background_image_as_pattern="without_pattern"][vc_c
 olumn width="1/4"][/vc_column][vc_column width="3/4"][/vc_column][/vc_row]
 [vc_row css_animation="" row_type="row" use_row_as_full_screen_section="no
 " type="full_width" angled_section="no" text_align="left" background_image
 _as_pattern="without_pattern"][vc_column][vc_empty_space height="22px"][/v
 c_column][/vc_row]
LOCATION:Churreria Patuchurro - Calle Ariel\, 4 (frente estación Sur de Me
 ndez Alvaro)\, C/Ariel\, 4\, Madrid\, Madrid\, España
X-APPLE-STRUCTURED-LOCATION;VALUE=URI;X-ADDRESS=C/Ariel\, 4\, Madrid\, Madr
 id\, España;X-APPLE-RADIUS=100;X-TITLE=Churreria Patuchurro - Calle Ariel
 \, 4 (frente estación Sur de Mendez Alvaro):geo:0,0
END:VEVENT
END:VCALENDAR