BEGIN:VCALENDAR
VERSION:2.0
PRODID:-//wp-events-plugin.com//7.2.3.1//EN
BEGIN:VEVENT
UID:11@activatesenderismo.es
DTSTART:20251012T090000Z
DTEND:20251012T203000Z
DTSTAMP:20251010T135129Z
URL:https://activatesenderismo.es/events/barranco-del-rio-dulce-2/
SUMMARY:Barranco del Río Dulce 12 Oct. Domingo
DESCRIPTION:[vc_row css_animation="" row_type="row" use_row_as_full_screen_
 section="no" type="full_width" angled_section="no" text_align="left" backg
 round_image_as_pattern="without_pattern"][vc_column][vc_separator type="no
 rmal" color="#000000" up="20" down="20"][/vc_column][/vc_row][vc_row css_a
 nimation="" row_type="row" use_row_as_full_screen_section="no" type="full_
 width" angled_section="no" text_align="left" background_image_as_pattern="
 without_pattern" z_index="" background_color="#ededed"][vc_column][vc_tabs
  style="horizontal"][vc_tab title="Precio" tab_id="de2c7a30-5835-4"][vc_co
 lumn_text]Precio: (26€ – 24€ socios)[/vc_column_text][/vc_tab][vc_ta
 b title="Horario" tab_id="8433a977-5a0e-9"][vc_column_text]Hora de Salida:
  09.00h. (Punto de salida: Calle Ariel\, 4 Churrería Patuchurro)\n\nHora 
 de llegada: 20.30h aprox. (Puntos de Llegada: Calle Ariel\, 4 (Churrería 
 Patuchurro)\n[/vc_column_text][/vc_tab][vc_tab title="Incluye" tab_id="159
 2411685044-2-2"][vc_column_text]Incluye: Autocar privado\, ruta\, monitore
 s\, y Seguro RC.\n\nNo incluye: la comida\, comeremos en ruta. (traer boca
 ta y bebida)[/vc_column_text][/vc_tab][vc_tab title="Requisitos" tab_id="1
 592411747704-3-8"][vc_column_text]REQUISITOS\nTener entre 30 y 55 años ap
 rox.  Botas ó zapatillas de trekking\, 1/1\,5 litros de agua\, chubasqu
 ero y muchas ganas de divertirte.\n\nNota: El programa está sujeto a camb
 ios por tipos meteorológicos o logísticos\, o por consideración del gu
 ía.[/vc_column_text][/vc_tab][/vc_tabs][vc_empty_space height="22px"][/vc
 _column][/vc_row][vc_row css_animation="" row_type="row" use_row_as_full_s
 creen_section="no" type="full_width" angled_section="no" text_align="left"
  background_image_as_pattern="without_pattern"][vc_column][vc_separator ty
 pe="normal" color="#000000" up="20" down="20"][/vc_column][/vc_row][vc_row
  css_animation="" row_type="row" use_row_as_full_screen_section="no" type=
 "full_width" angled_section="no" text_align="left" background_image_as_pat
 tern="without_pattern"][vc_column][vc_column_text]\nPrograma\n[/vc_column_
 text][/vc_column][/vc_row][vc_row css_animation="" row_type="row" use_row_
 as_full_screen_section="no" type="full_width" angled_section="no" text_ali
 gn="left" background_image_as_pattern="without_pattern"][vc_column][vc_sep
 arator type="normal" color="#000000" up="20" down="20"][/vc_column][/vc_ro
 w][vc_row css_animation="" row_type="row" use_row_as_full_screen_section="
 no" type="full_width" angled_section="no" text_align="left" background_ima
 ge_as_pattern="without_pattern"][vc_column width="2/3"][vc_column_text]\n\
 n\nDe la mano de nuestro Guía naturalista\, vamos a recorrer este fantás
 tico Parque Natural. El Barranco del Río Dulce fue declarado Parque Natur
 al en el año 2003. Está situado al norte de la provincia de Guadalajara\
 , formando parte de las estribaciones más occidentales del Sistema Ibéri
 co. Tiene una extensión total de 8.348 hectáreas. Estos espectaculares p
 arajes fueron popularizados por el añorado naturalista Félix Rodríguez 
 de la Fuente\, pues fueron el escenario idóneo para un buen número de su
 s documentales televisivos\, especialmente los dedicados a las águilas y 
 los zorros. Precisamente\, en el término municipal de Peregrina hay un mi
 rador sobre la propia hoz erigido en su nombre\, dónde iniciaremos la rut
 a.\n\n\n\n\nEl Parque Natural está recorrido por una hoz labrada en una p
 aramera cárstica perteneciente al período jurásico. Cuenta con numeroso
 s escarpes de variada morfología\, incluyendo abrigos y variadas formas p
 étreas Varios escarpes laterales o fluviales dan lugar a cascadas\, podre
 mos disfrutar de la cascada en su máximo esplendor.\n\n\nEn los elevados 
 peñascos de la hoz habitan gran variedad de rapaces\, como el águila per
 dicera\, en peligro de extinción\, el buitre leonado\, el halcón peregri
 no\, alimoches\, y chovas pequirrojas. Las aguas claras y rápidas del rí
 o constituyen un hábitat perfecto para la trucha común y la nutria.\nREC
 ORRIDO: 12  Km. Aprox.\nNIVEL: Medio-bajo (condición física normal)\n
 DESNIVEL: 150 -150 m\n\nPrecio: (26€ – 24€ socios)\n\nHora de Salid
 a: 09.00h. (Punto de salida: Calle Ariel\, 4 Churrería Patuchurro)\n\nHor
 a de llegada: 20.30h aprox. (Puntos de Llegada: Calle Ariel\, 4 (Churrerí
 a Patuchurro)\n\nIncluye: Autocar privado\, ruta\, monitores\, y Seguro RC
 .\n\nNo incluye: la comida\, comeremos en ruta. (traer bocata y bebida)[/v
 c_column_text][/vc_column][vc_column width="1/3"][vc_single_image image="4
 377" img_size="full" qode_css_animation=""][vc_separator type="normal" col
 or="#81d742" up="10" down="10"][vc_single_image image="2965" img_size="ful
 l" qode_css_animation=""][vc_separator type="normal" color="#81d742" up="1
 0" down="10"][vc_single_image image="1464" img_size="full" qode_css_animat
 ion=""][/vc_column][/vc_row][vc_row css_animation="" row_type="row" use_ro
 w_as_full_screen_section="no" type="full_width" angled_section="no" text_a
 lign="left" background_image_as_pattern="without_pattern"][vc_column][vc_s
 eparator type="normal" color="#000000" up="20" down="20"][vc_column_text]S
 i en las 24h siguientes a la inscripción no te ha llegado el correo de co
 nfirmación\, mira en la bandeja de spam (correo no deseado) o ponte en co
 ntacto en el telf.\; 600 24 20 72\n\nTambién puedes reservar enviando un
  mail con tus datos y número de reservas a info@activatesenderismo.es\n\n
 Al asistir a la excursión se aceptan las condiciones generales[/vc_column
 _text][/vc_column][/vc_row][vc_row css_animation="" row_type="row" use_row
 _as_full_screen_section="no" type="full_width" angled_section="no" text_al
 ign="left" background_image_as_pattern="without_pattern"][vc_column][vc_se
 parator type="normal" color="#000000" up="20" down="20"][/vc_column][/vc_r
 ow][vc_row css_animation="" row_type="row" use_row_as_full_screen_section=
 "no" type="full_width" angled_section="no" text_align="left" background_im
 age_as_pattern="without_pattern"][vc_column][vc_empty_space height="22px"]
 [/vc_column][/vc_row]
LOCATION:Churreria Patuchurro - Calle Ariel\, 4 (frente estación Sur de Me
 ndez Alvaro)\, C/Ariel\, 4\, Madrid\, Madrid\, España
X-APPLE-STRUCTURED-LOCATION;VALUE=URI;X-ADDRESS=C/Ariel\, 4\, Madrid\, Madr
 id\, España;X-APPLE-RADIUS=100;X-TITLE=Churreria Patuchurro - Calle Ariel
 \, 4 (frente estación Sur de Mendez Alvaro):geo:0,0
END:VEVENT
END:VCALENDAR